BEGIN:VCALENDAR
VERSION:2.0
PRODID:-//Norsk Radio Relæ Liga - ECPv6.15.20//NONSGML v1.0//EN
CALSCALE:GREGORIAN
METHOD:PUBLISH
X-WR-CALNAME:Norsk Radio Relæ Liga
X-ORIGINAL-URL:https://nrrl.no
X-WR-CALDESC:Arrangement for Norsk Radio Relæ Liga
REFRESH-INTERVAL;VALUE=DURATION:PT1H
X-Robots-Tag:noindex
X-PUBLISHED-TTL:PT1H
BEGIN:VTIMEZONE
TZID:Europe/Oslo
BEGIN:DAYLIGHT
TZOFFSETFROM:+0100
TZOFFSETTO:+0200
TZNAME:CEST
DTSTART:20240331T010000
END:DAYLIGHT
BEGIN:STANDARD
TZOFFSETFROM:+0200
TZOFFSETTO:+0100
TZNAME:CET
DTSTART:20241027T010000
END:STANDARD
BEGIN:DAYLIGHT
TZOFFSETFROM:+0100
TZOFFSETTO:+0200
TZNAME:CEST
DTSTART:20250330T010000
END:DAYLIGHT
BEGIN:STANDARD
TZOFFSETFROM:+0200
TZOFFSETTO:+0100
TZNAME:CET
DTSTART:20251026T010000
END:STANDARD
BEGIN:DAYLIGHT
TZOFFSETFROM:+0100
TZOFFSETTO:+0200
TZNAME:CEST
DTSTART:20260329T010000
END:DAYLIGHT
BEGIN:STANDARD
TZOFFSETFROM:+0200
TZOFFSETTO:+0100
TZNAME:CET
DTSTART:20261025T010000
END:STANDARD
END:VTIMEZONE
BEGIN:VEVENT
DTSTART;TZID=Europe/Oslo:20250130T180000
DTEND;TZID=Europe/Oslo:20250130T200000
DTSTAMP:20260420T200401
CREATED:20250126T211427Z
LAST-MODIFIED:20250126T211427Z
UID:106863-1738260000-1738267200@nrrl.no
SUMMARY:Medlemsmøte Ryfylkegruppen
DESCRIPTION:
URL:https://nrrl.no/event/medlemsmote-ryfylkegruppen-32/
CATEGORIES:Ryfylkegruppen
END:VEVENT
BEGIN:VEVENT
DTSTART;TZID=Europe/Oslo:20250130T190000
DTEND;TZID=Europe/Oslo:20250130T210000
DTSTAMP:20260420T200401
CREATED:20250126T211251Z
LAST-MODIFIED:20250126T211251Z
UID:106854-1738263600-1738270800@nrrl.no
SUMMARY:Medlemsmøte Haldengruppen
DESCRIPTION:
URL:https://nrrl.no/event/medlemsmote-haldengruppen-31/
CATEGORIES:Haldengruppen
END:VEVENT
BEGIN:VEVENT
DTSTART;TZID=Europe/Oslo:20250130T190000
DTEND;TZID=Europe/Oslo:20250130T210000
DTSTAMP:20260420T200401
CREATED:20250126T211329Z
LAST-MODIFIED:20250126T211329Z
UID:106858-1738263600-1738270800@nrrl.no
SUMMARY:Medlemsmøte Hortengruppen
DESCRIPTION:
URL:https://nrrl.no/event/medlemsmote-hortengruppen-54/
CATEGORIES:Hortengruppen
END:VEVENT
END:VCALENDAR