BEGIN:VCALENDAR
VERSION:2.0
PRODID:-//Norsk Radio Relæ Liga - ECPv6.15.20//NONSGML v1.0//EN
CALSCALE:GREGORIAN
METHOD:PUBLISH
X-WR-CALNAME:Norsk Radio Relæ Liga
X-ORIGINAL-URL:https://nrrl.no
X-WR-CALDESC:Arrangement for Norsk Radio Relæ Liga
REFRESH-INTERVAL;VALUE=DURATION:PT1H
X-Robots-Tag:noindex
X-PUBLISHED-TTL:PT1H
BEGIN:VTIMEZONE
TZID:Europe/Oslo
BEGIN:DAYLIGHT
TZOFFSETFROM:+0100
TZOFFSETTO:+0200
TZNAME:CEST
DTSTART:20240331T010000
END:DAYLIGHT
BEGIN:STANDARD
TZOFFSETFROM:+0200
TZOFFSETTO:+0100
TZNAME:CET
DTSTART:20241027T010000
END:STANDARD
BEGIN:DAYLIGHT
TZOFFSETFROM:+0100
TZOFFSETTO:+0200
TZNAME:CEST
DTSTART:20250330T010000
END:DAYLIGHT
BEGIN:STANDARD
TZOFFSETFROM:+0200
TZOFFSETTO:+0100
TZNAME:CET
DTSTART:20251026T010000
END:STANDARD
BEGIN:DAYLIGHT
TZOFFSETFROM:+0100
TZOFFSETTO:+0200
TZNAME:CEST
DTSTART:20260329T010000
END:DAYLIGHT
BEGIN:STANDARD
TZOFFSETFROM:+0200
TZOFFSETTO:+0100
TZNAME:CET
DTSTART:20261025T010000
END:STANDARD
END:VTIMEZONE
BEGIN:VEVENT
DTSTART;TZID=Europe/Oslo:20250219T180000
DTEND;TZID=Europe/Oslo:20250219T180000
DTSTAMP:20260420T200528
CREATED:20250129T084203Z
LAST-MODIFIED:20250129T084203Z
UID:109376-1739988000-1739988000@nrrl.no
SUMMARY:Bergensgruppen: Lisenskurs
DESCRIPTION:
URL:https://nrrl.no/event/bergensgruppen-lisenskurs-5/
LOCATION:Digitalt
CATEGORIES:Bergensgruppen,Kurs
END:VEVENT
BEGIN:VEVENT
DTSTART;TZID=Europe/Oslo:20250219T180000
DTEND;TZID=Europe/Oslo:20250219T200000
DTSTAMP:20260420T200528
CREATED:20250216T202734Z
LAST-MODIFIED:20250216T202734Z
UID:117496-1739988000-1739995200@nrrl.no
SUMMARY:Medlemsmøte Harstadgruppen
DESCRIPTION:
URL:https://nrrl.no/event/medlemsmote-harstadgruppen-6/
CATEGORIES:Harstadgruppen
END:VEVENT
BEGIN:VEVENT
DTSTART;TZID=Europe/Oslo:20250219T190000
DTEND;TZID=Europe/Oslo:20250219T210000
DTSTAMP:20260420T200528
CREATED:20250216T202126Z
LAST-MODIFIED:20250216T202126Z
UID:117472-1739991600-1739998800@nrrl.no
SUMMARY:Medlemsmøte Drammensgruppen
DESCRIPTION:
URL:https://nrrl.no/event/medlemsmote-drammensgruppen-28/
CATEGORIES:Drammengruppen
END:VEVENT
BEGIN:VEVENT
DTSTART;TZID=Europe/Oslo:20250219T190000
DTEND;TZID=Europe/Oslo:20250219T210000
DTSTAMP:20260420T200528
CREATED:20250216T202151Z
LAST-MODIFIED:20250216T202151Z
UID:117474-1739991600-1739998800@nrrl.no
SUMMARY:Medlemsmøte Follogruppen
DESCRIPTION:
URL:https://nrrl.no/event/medlemsmote-follogruppen-33/
CATEGORIES:Follogruppen
END:VEVENT
BEGIN:VEVENT
DTSTART;TZID=Europe/Oslo:20250219T190000
DTEND;TZID=Europe/Oslo:20250219T220000
DTSTAMP:20260420T200528
CREATED:20250216T202218Z
LAST-MODIFIED:20250216T202218Z
UID:117476-1739991600-1740002400@nrrl.no
SUMMARY:Medlemsmøte Grenlandsgruppen
DESCRIPTION:
URL:https://nrrl.no/event/medlemsmote-grenlandsgruppen-65/
CATEGORIES:Grenlandsgruppen
END:VEVENT
END:VCALENDAR