BEGIN:VCALENDAR
VERSION:2.0
PRODID:-//Norsk Radio Relæ Liga - ECPv6.15.20//NONSGML v1.0//EN
CALSCALE:GREGORIAN
METHOD:PUBLISH
X-ORIGINAL-URL:https://nrrl.no
X-WR-CALDESC:Arrangement for Norsk Radio Relæ Liga
REFRESH-INTERVAL;VALUE=DURATION:PT1H
X-Robots-Tag:noindex
X-PUBLISHED-TTL:PT1H
BEGIN:VTIMEZONE
TZID:Europe/Oslo
BEGIN:DAYLIGHT
TZOFFSETFROM:+0100
TZOFFSETTO:+0200
TZNAME:CEST
DTSTART:20240331T010000
END:DAYLIGHT
BEGIN:STANDARD
TZOFFSETFROM:+0200
TZOFFSETTO:+0100
TZNAME:CET
DTSTART:20241027T010000
END:STANDARD
BEGIN:DAYLIGHT
TZOFFSETFROM:+0100
TZOFFSETTO:+0200
TZNAME:CEST
DTSTART:20250330T010000
END:DAYLIGHT
BEGIN:STANDARD
TZOFFSETFROM:+0200
TZOFFSETTO:+0100
TZNAME:CET
DTSTART:20251026T010000
END:STANDARD
BEGIN:DAYLIGHT
TZOFFSETFROM:+0100
TZOFFSETTO:+0200
TZNAME:CEST
DTSTART:20260329T010000
END:DAYLIGHT
BEGIN:STANDARD
TZOFFSETFROM:+0200
TZOFFSETTO:+0100
TZNAME:CET
DTSTART:20261025T010000
END:STANDARD
END:VTIMEZONE
BEGIN:VEVENT
DTSTART;TZID=Europe/Oslo:20250220T180000
DTEND;TZID=Europe/Oslo:20250220T200000
DTSTAMP:20260420T200825
CREATED:20250216T202455Z
LAST-MODIFIED:20250216T202455Z
UID:117486-1740074400-1740081600@nrrl.no
SUMMARY:Medlemsmøte Ryfyllkegruppen
DESCRIPTION:
URL:https://nrrl.no/event/medlemsmote-ryfyllkegruppen/
CATEGORIES:Ryfylkegruppen
END:VEVENT
BEGIN:VEVENT
DTSTART;TZID=Europe/Oslo:20250220T190000
DTEND;TZID=Europe/Oslo:20250220T210000
DTSTAMP:20260420T200825
CREATED:20250202T231205Z
LAST-MODIFIED:20250202T231205Z
UID:114057-1740078000-1740085200@nrrl.no
SUMMARY:Medlemsmøte Egersundgruppen
DESCRIPTION:
URL:https://nrrl.no/event/medlemsmote-egersundgruppen-14/
CATEGORIES:Egersundgruppen
END:VEVENT
BEGIN:VEVENT
DTSTART;TZID=Europe/Oslo:20250220T190000
DTEND;TZID=Europe/Oslo:20250220T210000
DTSTAMP:20260420T200825
CREATED:20250216T202319Z
LAST-MODIFIED:20250216T202319Z
UID:117480-1740078000-1740085200@nrrl.no
SUMMARY:Medlemsmøte Haldengruppen
DESCRIPTION:
URL:https://nrrl.no/event/medlemsmote-haldengruppen-33/
CATEGORIES:Haldengruppen
END:VEVENT
BEGIN:VEVENT
DTSTART;TZID=Europe/Oslo:20250220T190000
DTEND;TZID=Europe/Oslo:20250220T210000
DTSTAMP:20260420T200825
CREATED:20250216T202354Z
LAST-MODIFIED:20250216T202354Z
UID:117482-1740078000-1740085200@nrrl.no
SUMMARY:Medlemsmøte Hortengruppen
DESCRIPTION:
URL:https://nrrl.no/event/medlemsmote-hortengruppen-58/
CATEGORIES:Hortengruppen
END:VEVENT
END:VCALENDAR