BEGIN:VCALENDAR
VERSION:2.0
PRODID:-//Norsk Radio Relæ Liga - ECPv6.15.20//NONSGML v1.0//EN
CALSCALE:GREGORIAN
METHOD:PUBLISH
X-WR-CALNAME:Norsk Radio Relæ Liga
X-ORIGINAL-URL:https://nrrl.no
X-WR-CALDESC:Arrangement for Norsk Radio Relæ Liga
REFRESH-INTERVAL;VALUE=DURATION:PT1H
X-Robots-Tag:noindex
X-PUBLISHED-TTL:PT1H
BEGIN:VTIMEZONE
TZID:Europe/Oslo
BEGIN:DAYLIGHT
TZOFFSETFROM:+0100
TZOFFSETTO:+0200
TZNAME:CEST
DTSTART:20240331T010000
END:DAYLIGHT
BEGIN:STANDARD
TZOFFSETFROM:+0200
TZOFFSETTO:+0100
TZNAME:CET
DTSTART:20241027T010000
END:STANDARD
BEGIN:DAYLIGHT
TZOFFSETFROM:+0100
TZOFFSETTO:+0200
TZNAME:CEST
DTSTART:20250330T010000
END:DAYLIGHT
BEGIN:STANDARD
TZOFFSETFROM:+0200
TZOFFSETTO:+0100
TZNAME:CET
DTSTART:20251026T010000
END:STANDARD
BEGIN:DAYLIGHT
TZOFFSETFROM:+0100
TZOFFSETTO:+0200
TZNAME:CEST
DTSTART:20260329T010000
END:DAYLIGHT
BEGIN:STANDARD
TZOFFSETFROM:+0200
TZOFFSETTO:+0100
TZNAME:CET
DTSTART:20261025T010000
END:STANDARD
END:VTIMEZONE
BEGIN:VEVENT
DTSTART;TZID=Europe/Oslo:20250309T080000
DTEND;TZID=Europe/Oslo:20250309T093000
DTSTAMP:20260420T182946
CREATED:20250225T163532Z
LAST-MODIFIED:20250225T163532Z
UID:117626-1741507200-1741512600@nrrl.no
SUMMARY:NRRL Vintertest (SSB - periode 2)
DESCRIPTION:Se info her: https://nrrl.no/nyheter/nrrl-vintertest-8-og-9-mars-2025/
URL:https://nrrl.no/event/nrrl-vintertest-ssb-periode-2/
CATEGORIES:Konkurranser
END:VEVENT
BEGIN:VEVENT
DTSTART;TZID=Europe/Oslo:20250309T100000
DTEND;TZID=Europe/Oslo:20250309T113000
DTSTAMP:20260420T182946
CREATED:20250225T163604Z
LAST-MODIFIED:20250225T163604Z
UID:117628-1741514400-1741519800@nrrl.no
SUMMARY:NRRL Vintertest (CW - periode 2)
DESCRIPTION:Se info her: https://nrrl.no/nyheter/nrrl-vintertest-8-og-9-mars-2025/
URL:https://nrrl.no/event/nrrl-vintertest-cw-periode-2/
CATEGORIES:Konkurranser
END:VEVENT
BEGIN:VEVENT
DTSTART;TZID=Europe/Oslo:20250309T140000
DTEND;TZID=Europe/Oslo:20250309T153000
DTSTAMP:20260420T182946
CREATED:20250225T163634Z
LAST-MODIFIED:20250225T163634Z
UID:117630-1741528800-1741534200@nrrl.no
SUMMARY:NRRL Vintertest (CW - periode 3)
DESCRIPTION:Se info her: https://nrrl.no/nyheter/nrrl-vintertest-8-og-9-mars-2025/
URL:https://nrrl.no/event/nrrl-vintertest-cw-periode-3/
CATEGORIES:Konkurranser
END:VEVENT
BEGIN:VEVENT
DTSTART;TZID=Europe/Oslo:20250309T160000
DTEND;TZID=Europe/Oslo:20250309T173000
DTSTAMP:20260420T182946
CREATED:20250225T163704Z
LAST-MODIFIED:20250225T163704Z
UID:117632-1741536000-1741541400@nrrl.no
SUMMARY:NRRL Vintertest (SSB - periode 3)
DESCRIPTION:Se info her: https://nrrl.no/nyheter/nrrl-vintertest-8-og-9-mars-2025/
URL:https://nrrl.no/event/nrrl-vintertest-ssb-periode-3/
CATEGORIES:Konkurranser
END:VEVENT
END:VCALENDAR