BEGIN:VCALENDAR
VERSION:2.0
PRODID:-//Norsk Radio Relæ Liga - ECPv6.15.20//NONSGML v1.0//EN
CALSCALE:GREGORIAN
METHOD:PUBLISH
X-WR-CALNAME:Norsk Radio Relæ Liga
X-ORIGINAL-URL:https://nrrl.no
X-WR-CALDESC:Arrangement for Norsk Radio Relæ Liga
REFRESH-INTERVAL;VALUE=DURATION:PT1H
X-Robots-Tag:noindex
X-PUBLISHED-TTL:PT1H
BEGIN:VTIMEZONE
TZID:Europe/Oslo
BEGIN:DAYLIGHT
TZOFFSETFROM:+0100
TZOFFSETTO:+0200
TZNAME:CEST
DTSTART:20240331T010000
END:DAYLIGHT
BEGIN:STANDARD
TZOFFSETFROM:+0200
TZOFFSETTO:+0100
TZNAME:CET
DTSTART:20241027T010000
END:STANDARD
BEGIN:DAYLIGHT
TZOFFSETFROM:+0100
TZOFFSETTO:+0200
TZNAME:CEST
DTSTART:20250330T010000
END:DAYLIGHT
BEGIN:STANDARD
TZOFFSETFROM:+0200
TZOFFSETTO:+0100
TZNAME:CET
DTSTART:20251026T010000
END:STANDARD
BEGIN:DAYLIGHT
TZOFFSETFROM:+0100
TZOFFSETTO:+0200
TZNAME:CEST
DTSTART:20260329T010000
END:DAYLIGHT
BEGIN:STANDARD
TZOFFSETFROM:+0200
TZOFFSETTO:+0100
TZNAME:CET
DTSTART:20261025T010000
END:STANDARD
END:VTIMEZONE
BEGIN:VEVENT
DTSTART;TZID=Europe/Oslo:20250312T180000
DTEND;TZID=Europe/Oslo:20250312T180000
DTSTAMP:20260420T183016
CREATED:20250129T084326Z
LAST-MODIFIED:20250129T084348Z
UID:109382-1741802400-1741802400@nrrl.no
SUMMARY:Bergensgruppen: Lisenskurs
DESCRIPTION:
URL:https://nrrl.no/event/bergensgruppen-lisenskurs-8/
LOCATION:Digitalt
CATEGORIES:Bergensgruppen,Kurs
END:VEVENT
BEGIN:VEVENT
DTSTART;TZID=Europe/Oslo:20250312T180000
DTEND;TZID=Europe/Oslo:20250312T200000
DTSTAMP:20260420T183016
CREATED:20250309T232343Z
LAST-MODIFIED:20250309T232343Z
UID:117856-1741802400-1741809600@nrrl.no
SUMMARY:Medlemsmøte Harstadgruppen
DESCRIPTION:
URL:https://nrrl.no/event/medlemsmote-harstadgruppen-9/
CATEGORIES:Harstadgruppen
END:VEVENT
BEGIN:VEVENT
DTSTART;TZID=Europe/Oslo:20250312T190000
DTEND;TZID=Europe/Oslo:20250312T210000
DTSTAMP:20260420T183016
CREATED:20250302T213453Z
LAST-MODIFIED:20250302T213453Z
UID:117718-1741806000-1741813200@nrrl.no
SUMMARY:Medlemsmøte Kongsberggruppen
DESCRIPTION:
URL:https://nrrl.no/event/medlemsmote-kongsberggruppen-8/
CATEGORIES:Kongsberggruppen
END:VEVENT
BEGIN:VEVENT
DTSTART;TZID=Europe/Oslo:20250312T190000
DTEND;TZID=Europe/Oslo:20250312T210000
DTSTAMP:20260420T183016
CREATED:20250309T231729Z
LAST-MODIFIED:20250309T231729Z
UID:117832-1741806000-1741813200@nrrl.no
SUMMARY:Medlemsmøte Drammensgruppen
DESCRIPTION:
URL:https://nrrl.no/event/medlemsmote-drammensgruppen-31/
CATEGORIES:Drammengruppen
END:VEVENT
BEGIN:VEVENT
DTSTART;TZID=Europe/Oslo:20250312T190000
DTEND;TZID=Europe/Oslo:20250312T210000
DTSTAMP:20260420T183016
CREATED:20250309T231756Z
LAST-MODIFIED:20250309T231756Z
UID:117834-1741806000-1741813200@nrrl.no
SUMMARY:Medlemsmøte Follogruppen
DESCRIPTION:
URL:https://nrrl.no/event/medlemsmote-follogruppen-36/
CATEGORIES:Follogruppen
END:VEVENT
BEGIN:VEVENT
DTSTART;TZID=Europe/Oslo:20250312T190000
DTEND;TZID=Europe/Oslo:20250312T210000
DTSTAMP:20260420T183016
CREATED:20250309T231829Z
LAST-MODIFIED:20250309T231829Z
UID:117836-1741806000-1741813200@nrrl.no
SUMMARY:Medlemsmøte Grenlandsgruppen
DESCRIPTION:
URL:https://nrrl.no/event/medlemsmote-grenlandsgruppen-71/
CATEGORIES:Grenlandsgruppen
END:VEVENT
END:VCALENDAR