BEGIN:VCALENDAR
VERSION:2.0
PRODID:-//Norsk Radio Relæ Liga - ECPv6.15.20//NONSGML v1.0//EN
CALSCALE:GREGORIAN
METHOD:PUBLISH
X-WR-CALNAME:Norsk Radio Relæ Liga
X-ORIGINAL-URL:https://nrrl.no
X-WR-CALDESC:Arrangement for Norsk Radio Relæ Liga
REFRESH-INTERVAL;VALUE=DURATION:PT1H
X-Robots-Tag:noindex
X-PUBLISHED-TTL:PT1H
BEGIN:VTIMEZONE
TZID:Europe/Oslo
BEGIN:DAYLIGHT
TZOFFSETFROM:+0100
TZOFFSETTO:+0200
TZNAME:CEST
DTSTART:20240331T010000
END:DAYLIGHT
BEGIN:STANDARD
TZOFFSETFROM:+0200
TZOFFSETTO:+0100
TZNAME:CET
DTSTART:20241027T010000
END:STANDARD
BEGIN:DAYLIGHT
TZOFFSETFROM:+0100
TZOFFSETTO:+0200
TZNAME:CEST
DTSTART:20250330T010000
END:DAYLIGHT
BEGIN:STANDARD
TZOFFSETFROM:+0200
TZOFFSETTO:+0100
TZNAME:CET
DTSTART:20251026T010000
END:STANDARD
BEGIN:DAYLIGHT
TZOFFSETFROM:+0100
TZOFFSETTO:+0200
TZNAME:CEST
DTSTART:20260329T010000
END:DAYLIGHT
BEGIN:STANDARD
TZOFFSETFROM:+0200
TZOFFSETTO:+0100
TZNAME:CET
DTSTART:20261025T010000
END:STANDARD
END:VTIMEZONE
BEGIN:VEVENT
DTSTART;TZID=Europe/Oslo:20250319T180000
DTEND;TZID=Europe/Oslo:20250319T180000
DTSTAMP:20260420T182853
CREATED:20250129T084415Z
LAST-MODIFIED:20250129T084415Z
UID:109384-1742407200-1742407200@nrrl.no
SUMMARY:Bergensgruppen: Lisenskurs
DESCRIPTION:
URL:https://nrrl.no/event/bergensgruppen-lisenskurs-9/
LOCATION:Digitalt
CATEGORIES:Bergensgruppen,Kurs
END:VEVENT
BEGIN:VEVENT
DTSTART;TZID=Europe/Oslo:20250319T180000
DTEND;TZID=Europe/Oslo:20250319T200000
DTSTAMP:20260420T182853
CREATED:20250316T211224Z
LAST-MODIFIED:20250316T211224Z
UID:117969-1742407200-1742414400@nrrl.no
SUMMARY:Medlemsmøte Harstadgruppen
DESCRIPTION:
URL:https://nrrl.no/event/medlemsmote-harstadgruppen-10/
CATEGORIES:Harstadgruppen
END:VEVENT
BEGIN:VEVENT
DTSTART;TZID=Europe/Oslo:20250319T190000
DTEND;TZID=Europe/Oslo:20250319T210000
DTSTAMP:20260420T182853
CREATED:20250316T210418Z
LAST-MODIFIED:20250316T210418Z
UID:117945-1742410800-1742418000@nrrl.no
SUMMARY:Medlemsmøte Drammensgruppen
DESCRIPTION:
URL:https://nrrl.no/event/medlemsmote-drammensgruppen-32/
CATEGORIES:Drammengruppen
END:VEVENT
BEGIN:VEVENT
DTSTART;TZID=Europe/Oslo:20250319T190000
DTEND;TZID=Europe/Oslo:20250319T210000
DTSTAMP:20260420T182853
CREATED:20250316T210446Z
LAST-MODIFIED:20250316T210446Z
UID:117947-1742410800-1742418000@nrrl.no
SUMMARY:Medlemsmøte Follogruppen
DESCRIPTION:
URL:https://nrrl.no/event/medlemsmote-follogruppen-37/
CATEGORIES:Follogruppen
END:VEVENT
BEGIN:VEVENT
DTSTART;TZID=Europe/Oslo:20250319T190000
DTEND;TZID=Europe/Oslo:20250319T210000
DTSTAMP:20260420T182853
CREATED:20250316T210523Z
LAST-MODIFIED:20250316T210523Z
UID:117949-1742410800-1742418000@nrrl.no
SUMMARY:Medlemsmøte Grenlandsgruppen
DESCRIPTION:
URL:https://nrrl.no/event/medlemsmote-grenlandsgruppen-73/
CATEGORIES:Grenlandsgruppen
END:VEVENT
END:VCALENDAR