BEGIN:VCALENDAR
VERSION:2.0
PRODID:-//Norsk Radio Relæ Liga - ECPv6.15.20//NONSGML v1.0//EN
CALSCALE:GREGORIAN
METHOD:PUBLISH
X-ORIGINAL-URL:https://nrrl.no
X-WR-CALDESC:Arrangement for Norsk Radio Relæ Liga
REFRESH-INTERVAL;VALUE=DURATION:PT1H
X-Robots-Tag:noindex
X-PUBLISHED-TTL:PT1H
BEGIN:VTIMEZONE
TZID:Europe/Oslo
BEGIN:DAYLIGHT
TZOFFSETFROM:+0100
TZOFFSETTO:+0200
TZNAME:CEST
DTSTART:20240331T010000
END:DAYLIGHT
BEGIN:STANDARD
TZOFFSETFROM:+0200
TZOFFSETTO:+0100
TZNAME:CET
DTSTART:20241027T010000
END:STANDARD
BEGIN:DAYLIGHT
TZOFFSETFROM:+0100
TZOFFSETTO:+0200
TZNAME:CEST
DTSTART:20250330T010000
END:DAYLIGHT
BEGIN:STANDARD
TZOFFSETFROM:+0200
TZOFFSETTO:+0100
TZNAME:CET
DTSTART:20251026T010000
END:STANDARD
BEGIN:DAYLIGHT
TZOFFSETFROM:+0100
TZOFFSETTO:+0200
TZNAME:CEST
DTSTART:20260329T010000
END:DAYLIGHT
BEGIN:STANDARD
TZOFFSETFROM:+0200
TZOFFSETTO:+0100
TZNAME:CET
DTSTART:20261025T010000
END:STANDARD
END:VTIMEZONE
BEGIN:VEVENT
DTSTART;TZID=Europe/Oslo:20250401T110000
DTEND;TZID=Europe/Oslo:20250401T130000
DTSTAMP:20260420T181027
CREATED:20250330T193336Z
LAST-MODIFIED:20250330T193336Z
UID:118164-1743505200-1743512400@nrrl.no
SUMMARY:Medlemsmøte Hortengruppen
DESCRIPTION:
URL:https://nrrl.no/event/medlemsmote-hortengruppen-71/
CATEGORIES:Hortengruppen
END:VEVENT
BEGIN:VEVENT
DTSTART;TZID=Europe/Oslo:20250401T180000
DTEND;TZID=Europe/Oslo:20250401T200000
DTSTAMP:20260420T181027
CREATED:20250330T194820Z
LAST-MODIFIED:20250330T194820Z
UID:118204-1743530400-1743537600@nrrl.no
SUMMARY:Medlemsmøte Kristansandgruppen
DESCRIPTION:
URL:https://nrrl.no/event/medlemsmote-kristansandgruppen/
CATEGORIES:Kristiansandgruppen
END:VEVENT
BEGIN:VEVENT
DTSTART;TZID=Europe/Oslo:20250401T190000
DTEND;TZID=Europe/Oslo:20250401T210000
DTSTAMP:20260420T181027
CREATED:20250330T193521Z
LAST-MODIFIED:20250330T193521Z
UID:118170-1743534000-1743541200@nrrl.no
SUMMARY:Medlemsmøte Tromsøgruppen
DESCRIPTION:
URL:https://nrrl.no/event/medlemsmote-tromsogruppen-77/
CATEGORIES:Tromsøgruppen
END:VEVENT
BEGIN:VEVENT
DTSTART;TZID=Europe/Oslo:20250401T190000
DTEND;TZID=Europe/Oslo:20250401T210000
DTSTAMP:20260420T181027
CREATED:20250330T193635Z
LAST-MODIFIED:20250330T193635Z
UID:118174-1743534000-1743541200@nrrl.no
SUMMARY:Medlemsmøte Trondheimsgruppen
DESCRIPTION:
URL:https://nrrl.no/event/medlemsmote-trondheimsgruppen-35/
CATEGORIES:Trondheimsgruppen
END:VEVENT
END:VCALENDAR