BEGIN:VCALENDAR
VERSION:2.0
PRODID:-//Norsk Radio Relæ Liga - ECPv6.15.20//NONSGML v1.0//EN
CALSCALE:GREGORIAN
METHOD:PUBLISH
X-ORIGINAL-URL:https://nrrl.no
X-WR-CALDESC:Arrangement for Norsk Radio Relæ Liga
REFRESH-INTERVAL;VALUE=DURATION:PT1H
X-Robots-Tag:noindex
X-PUBLISHED-TTL:PT1H
BEGIN:VTIMEZONE
TZID:Europe/Oslo
BEGIN:DAYLIGHT
TZOFFSETFROM:+0100
TZOFFSETTO:+0200
TZNAME:CEST
DTSTART:20240331T010000
END:DAYLIGHT
BEGIN:STANDARD
TZOFFSETFROM:+0200
TZOFFSETTO:+0100
TZNAME:CET
DTSTART:20241027T010000
END:STANDARD
BEGIN:DAYLIGHT
TZOFFSETFROM:+0100
TZOFFSETTO:+0200
TZNAME:CEST
DTSTART:20250330T010000
END:DAYLIGHT
BEGIN:STANDARD
TZOFFSETFROM:+0200
TZOFFSETTO:+0100
TZNAME:CET
DTSTART:20251026T010000
END:STANDARD
BEGIN:DAYLIGHT
TZOFFSETFROM:+0100
TZOFFSETTO:+0200
TZNAME:CEST
DTSTART:20260329T010000
END:DAYLIGHT
BEGIN:STANDARD
TZOFFSETFROM:+0200
TZOFFSETTO:+0100
TZNAME:CET
DTSTART:20261025T010000
END:STANDARD
END:VTIMEZONE
BEGIN:VEVENT
DTSTART;TZID=Europe/Oslo:20250402T180000
DTEND;TZID=Europe/Oslo:20250402T180000
DTSTAMP:20260420T165254
CREATED:20250129T084504Z
LAST-MODIFIED:20250129T084504Z
UID:109389-1743616800-1743616800@nrrl.no
SUMMARY:Bergensgruppen: Lisenskurs
DESCRIPTION:
URL:https://nrrl.no/event/bergensgruppen-lisenskurs-11/
LOCATION:Digitalt
CATEGORIES:Bergensgruppen,Kurs
END:VEVENT
BEGIN:VEVENT
DTSTART;TZID=Europe/Oslo:20250402T180000
DTEND;TZID=Europe/Oslo:20250402T200000
DTSTAMP:20260420T165254
CREATED:20250330T193705Z
LAST-MODIFIED:20250330T193705Z
UID:118176-1743616800-1743624000@nrrl.no
SUMMARY:Medlemsmøte Harstadgruppen
DESCRIPTION:
URL:https://nrrl.no/event/medlemsmote-harstadgruppen-12/
CATEGORIES:Harstadgruppen
END:VEVENT
BEGIN:VEVENT
DTSTART;TZID=Europe/Oslo:20250402T180000
DTEND;TZID=Europe/Oslo:20250402T200000
DTSTAMP:20260420T165254
CREATED:20250330T193940Z
LAST-MODIFIED:20250330T193940Z
UID:118186-1743616800-1743624000@nrrl.no
SUMMARY:Medlemsmøte Modumsgruppen
DESCRIPTION:
URL:https://nrrl.no/event/medlemsmote-modumsgruppen-3/
CATEGORIES:Modumgruppen
END:VEVENT
BEGIN:VEVENT
DTSTART;TZID=Europe/Oslo:20250402T180000
DTEND;TZID=Europe/Oslo:20250402T200000
DTSTAMP:20260420T165254
CREATED:20250330T194012Z
LAST-MODIFIED:20250330T194012Z
UID:118188-1743616800-1743624000@nrrl.no
SUMMARY:Medlemsmøte Sarpsborggruppen
DESCRIPTION:
URL:https://nrrl.no/event/medlemsmote-sarpsborggruppen-3/
CATEGORIES:Saprsborggruppen
END:VEVENT
BEGIN:VEVENT
DTSTART;TZID=Europe/Oslo:20250402T190000
DTEND;TZID=Europe/Oslo:20250402T210000
DTSTAMP:20260420T165254
CREATED:20250330T193009Z
LAST-MODIFIED:20250330T193009Z
UID:118152-1743620400-1743627600@nrrl.no
SUMMARY:Medlemsmøte Drammensgruppen
DESCRIPTION:
URL:https://nrrl.no/event/medlemsmote-drammensgruppen-34/
CATEGORIES:Drammengruppen
END:VEVENT
BEGIN:VEVENT
DTSTART;TZID=Europe/Oslo:20250402T190000
DTEND;TZID=Europe/Oslo:20250402T210000
DTSTAMP:20260420T165254
CREATED:20250330T193037Z
LAST-MODIFIED:20250330T193037Z
UID:118154-1743620400-1743627600@nrrl.no
SUMMARY:Medlemsmøte Follogruppen
DESCRIPTION:
URL:https://nrrl.no/event/medlemsmote-follogruppen-39/
CATEGORIES:Follogruppen
END:VEVENT
BEGIN:VEVENT
DTSTART;TZID=Europe/Oslo:20250402T190000
DTEND;TZID=Europe/Oslo:20250402T210000
DTSTAMP:20260420T165254
CREATED:20250330T194521Z
LAST-MODIFIED:20250330T194521Z
UID:118200-1743620400-1743627600@nrrl.no
SUMMARY:Medlemsmøte Haugalandsgruppen
DESCRIPTION:Tema: \nRing og nett – vesen og uvesen\, innenlands og utenlands
URL:https://nrrl.no/event/medlemsmote-haugalandsgruppen/
CATEGORIES:Haugalandsgruppen
END:VEVENT
BEGIN:VEVENT
DTSTART;TZID=Europe/Oslo:20250402T190000
DTEND;TZID=Europe/Oslo:20250402T210000
DTSTAMP:20260420T165254
CREATED:20250330T194639Z
LAST-MODIFIED:20250330T194639Z
UID:118202-1743620400-1743627600@nrrl.no
SUMMARY:Medlemsmøte Kongsvingergruppen
DESCRIPTION:
URL:https://nrrl.no/event/medlemsmote-kongsvingergruppen/
CATEGORIES:Kongsvingergruppen
END:VEVENT
BEGIN:VEVENT
DTSTART;TZID=Europe/Oslo:20250402T190000
DTEND;TZID=Europe/Oslo:20250402T210000
DTSTAMP:20260420T165254
CREATED:20250330T194955Z
LAST-MODIFIED:20250330T194955Z
UID:118210-1743620400-1743627600@nrrl.no
SUMMARY:Medlemsmøte Oslogruppen
DESCRIPTION:
URL:https://nrrl.no/event/medlemsmote-oslogruppen/
CATEGORIES:Oslogruppen
END:VEVENT
BEGIN:VEVENT
DTSTART;TZID=Europe/Oslo:20250402T190000
DTEND;TZID=Europe/Oslo:20250402T220000
DTSTAMP:20260420T165254
CREATED:20250330T193118Z
LAST-MODIFIED:20250330T193118Z
UID:118156-1743620400-1743631200@nrrl.no
SUMMARY:Medlemsmøte Grenlandsgruppen
DESCRIPTION:
URL:https://nrrl.no/event/medlemsmote-grenlandsgruppen-77/
CATEGORIES:Grenlandsgruppen
END:VEVENT
END:VCALENDAR