BEGIN:VCALENDAR
VERSION:2.0
PRODID:-//Norsk Radio Relæ Liga - ECPv6.15.20//NONSGML v1.0//EN
CALSCALE:GREGORIAN
METHOD:PUBLISH
X-ORIGINAL-URL:https://nrrl.no
X-WR-CALDESC:Arrangement for Norsk Radio Relæ Liga
REFRESH-INTERVAL;VALUE=DURATION:PT1H
X-Robots-Tag:noindex
X-PUBLISHED-TTL:PT1H
BEGIN:VTIMEZONE
TZID:Europe/Oslo
BEGIN:DAYLIGHT
TZOFFSETFROM:+0100
TZOFFSETTO:+0200
TZNAME:CEST
DTSTART:20240331T010000
END:DAYLIGHT
BEGIN:STANDARD
TZOFFSETFROM:+0200
TZOFFSETTO:+0100
TZNAME:CET
DTSTART:20241027T010000
END:STANDARD
BEGIN:DAYLIGHT
TZOFFSETFROM:+0100
TZOFFSETTO:+0200
TZNAME:CEST
DTSTART:20250330T010000
END:DAYLIGHT
BEGIN:STANDARD
TZOFFSETFROM:+0200
TZOFFSETTO:+0100
TZNAME:CET
DTSTART:20251026T010000
END:STANDARD
BEGIN:DAYLIGHT
TZOFFSETFROM:+0100
TZOFFSETTO:+0200
TZNAME:CEST
DTSTART:20260329T010000
END:DAYLIGHT
BEGIN:STANDARD
TZOFFSETFROM:+0200
TZOFFSETTO:+0100
TZNAME:CET
DTSTART:20261025T010000
END:STANDARD
END:VTIMEZONE
BEGIN:VEVENT
DTSTART;TZID=Europe/Oslo:20250407T180000
DTEND;TZID=Europe/Oslo:20250407T200000
DTSTAMP:20260420T180928
CREATED:20250330T194359Z
LAST-MODIFIED:20250330T194359Z
UID:118196-1744048800-1744056000@nrrl.no
SUMMARY:Medlemsmøte Bergensgruppen
DESCRIPTION:
URL:https://nrrl.no/event/medlemsmote-bergensgruppen/
CATEGORIES:Bergensgruppen
END:VEVENT
BEGIN:VEVENT
DTSTART;TZID=Europe/Oslo:20250407T190000
DTEND;TZID=Europe/Oslo:20250407T210000
DTSTAMP:20260420T180928
CREATED:20250330T194923Z
LAST-MODIFIED:20250330T194923Z
UID:118208-1744052400-1744059600@nrrl.no
SUMMARY:Medlemsmøte Moldegruppen
DESCRIPTION:
URL:https://nrrl.no/event/medlemsmote-moldegruppen/
CATEGORIES:Moldegruppen
END:VEVENT
BEGIN:VEVENT
DTSTART;TZID=Europe/Oslo:20250407T190000
DTEND;TZID=Europe/Oslo:20250407T210000
DTSTAMP:20260420T180928
CREATED:20250406T200641Z
LAST-MODIFIED:20250406T200641Z
UID:118305-1744052400-1744059600@nrrl.no
SUMMARY:Medlemsmøte Sandefjordgruppen
DESCRIPTION:
URL:https://nrrl.no/event/medlemsmote-sandefjordgruppen-38/
CATEGORIES:Sandefjordgruppen
END:VEVENT
END:VCALENDAR