BEGIN:VCALENDAR
VERSION:2.0
PRODID:-//Norsk Radio Relæ Liga - ECPv6.15.20//NONSGML v1.0//EN
CALSCALE:GREGORIAN
METHOD:PUBLISH
X-WR-CALNAME:Norsk Radio Relæ Liga
X-ORIGINAL-URL:https://nrrl.no
X-WR-CALDESC:Arrangement for Norsk Radio Relæ Liga
REFRESH-INTERVAL;VALUE=DURATION:PT1H
X-Robots-Tag:noindex
X-PUBLISHED-TTL:PT1H
BEGIN:VTIMEZONE
TZID:Europe/Oslo
BEGIN:DAYLIGHT
TZOFFSETFROM:+0100
TZOFFSETTO:+0200
TZNAME:CEST
DTSTART:20240331T010000
END:DAYLIGHT
BEGIN:STANDARD
TZOFFSETFROM:+0200
TZOFFSETTO:+0100
TZNAME:CET
DTSTART:20241027T010000
END:STANDARD
BEGIN:DAYLIGHT
TZOFFSETFROM:+0100
TZOFFSETTO:+0200
TZNAME:CEST
DTSTART:20250330T010000
END:DAYLIGHT
BEGIN:STANDARD
TZOFFSETFROM:+0200
TZOFFSETTO:+0100
TZNAME:CET
DTSTART:20251026T010000
END:STANDARD
BEGIN:DAYLIGHT
TZOFFSETFROM:+0100
TZOFFSETTO:+0200
TZNAME:CEST
DTSTART:20260329T010000
END:DAYLIGHT
BEGIN:STANDARD
TZOFFSETFROM:+0200
TZOFFSETTO:+0100
TZNAME:CET
DTSTART:20261025T010000
END:STANDARD
END:VTIMEZONE
BEGIN:VEVENT
DTSTART;TZID=Europe/Oslo:20250416T180000
DTEND;TZID=Europe/Oslo:20250416T180000
DTSTAMP:20260420T164943
CREATED:20250129T084547Z
LAST-MODIFIED:20250129T084547Z
UID:109393-1744826400-1744826400@nrrl.no
SUMMARY:Bergensgruppen: Lisenskurs
DESCRIPTION:
URL:https://nrrl.no/event/bergensgruppen-lisenskurs-13/
LOCATION:Digitalt
CATEGORIES:Bergensgruppen,Kurs
END:VEVENT
BEGIN:VEVENT
DTSTART;TZID=Europe/Oslo:20250416T180000
DTEND;TZID=Europe/Oslo:20250416T200000
DTSTAMP:20260420T164943
CREATED:20250413T184304Z
LAST-MODIFIED:20250413T184304Z
UID:118396-1744826400-1744833600@nrrl.no
SUMMARY:Medlemsmøte Harstadgruppen
DESCRIPTION:
URL:https://nrrl.no/event/medlemsmote-harstadgruppen-14/
CATEGORIES:Harstadgruppen
END:VEVENT
BEGIN:VEVENT
DTSTART;TZID=Europe/Oslo:20250416T190000
DTEND;TZID=Europe/Oslo:20250416T210000
DTSTAMP:20260420T164943
CREATED:20250413T183630Z
LAST-MODIFIED:20250413T183630Z
UID:118372-1744830000-1744837200@nrrl.no
SUMMARY:Medlemsmøte Drammensgruppen
DESCRIPTION:
URL:https://nrrl.no/event/medlemsmote-drammensgruppen-36/
CATEGORIES:Drammengruppen
END:VEVENT
BEGIN:VEVENT
DTSTART;TZID=Europe/Oslo:20250416T190000
DTEND;TZID=Europe/Oslo:20250416T210000
DTSTAMP:20260420T164943
CREATED:20250413T183657Z
LAST-MODIFIED:20250413T183657Z
UID:118374-1744830000-1744837200@nrrl.no
SUMMARY:Medlemsmøte Follogruppen
DESCRIPTION:
URL:https://nrrl.no/event/medlemsmote-follogruppen-41/
CATEGORIES:Follogruppen
END:VEVENT
BEGIN:VEVENT
DTSTART;TZID=Europe/Oslo:20250416T190000
DTEND;TZID=Europe/Oslo:20250416T210000
DTSTAMP:20260420T164943
CREATED:20250413T183731Z
LAST-MODIFIED:20250413T183731Z
UID:118376-1744830000-1744837200@nrrl.no
SUMMARY:Medlemsmøte Grenlandsgruppen
DESCRIPTION:
URL:https://nrrl.no/event/medlemsmote-grenlandsgruppen-81/
CATEGORIES:Grenlandsgruppen
END:VEVENT
END:VCALENDAR