BEGIN:VCALENDAR
VERSION:2.0
PRODID:-//Norsk Radio Relæ Liga - ECPv6.15.20//NONSGML v1.0//EN
CALSCALE:GREGORIAN
METHOD:PUBLISH
X-ORIGINAL-URL:https://nrrl.no
X-WR-CALDESC:Arrangement for Norsk Radio Relæ Liga
REFRESH-INTERVAL;VALUE=DURATION:PT1H
X-Robots-Tag:noindex
X-PUBLISHED-TTL:PT1H
BEGIN:VTIMEZONE
TZID:Europe/Oslo
BEGIN:DAYLIGHT
TZOFFSETFROM:+0100
TZOFFSETTO:+0200
TZNAME:CEST
DTSTART:20240331T010000
END:DAYLIGHT
BEGIN:STANDARD
TZOFFSETFROM:+0200
TZOFFSETTO:+0100
TZNAME:CET
DTSTART:20241027T010000
END:STANDARD
BEGIN:DAYLIGHT
TZOFFSETFROM:+0100
TZOFFSETTO:+0200
TZNAME:CEST
DTSTART:20250330T010000
END:DAYLIGHT
BEGIN:STANDARD
TZOFFSETFROM:+0200
TZOFFSETTO:+0100
TZNAME:CET
DTSTART:20251026T010000
END:STANDARD
BEGIN:DAYLIGHT
TZOFFSETFROM:+0100
TZOFFSETTO:+0200
TZNAME:CEST
DTSTART:20260329T010000
END:DAYLIGHT
BEGIN:STANDARD
TZOFFSETFROM:+0200
TZOFFSETTO:+0100
TZNAME:CET
DTSTART:20261025T010000
END:STANDARD
END:VTIMEZONE
BEGIN:VEVENT
DTSTART;TZID=Europe/Oslo:20250430T180000
DTEND;TZID=Europe/Oslo:20250430T180000
DTSTAMP:20260420T151709
CREATED:20250129T084620Z
LAST-MODIFIED:20250129T084620Z
UID:109399-1746036000-1746036000@nrrl.no
SUMMARY:Bergensgruppen: Lisenskurs
DESCRIPTION:
URL:https://nrrl.no/event/bergensgruppen-lisenskurs-15/
LOCATION:Digitalt
CATEGORIES:Bergensgruppen,Kurs
END:VEVENT
BEGIN:VEVENT
DTSTART;TZID=Europe/Oslo:20250430T180000
DTEND;TZID=Europe/Oslo:20250430T200000
DTSTAMP:20260420T151709
CREATED:20250427T181310Z
LAST-MODIFIED:20250427T181310Z
UID:118564-1746036000-1746043200@nrrl.no
SUMMARY:Medlemsmøte Harstadgruppen
DESCRIPTION:
URL:https://nrrl.no/event/medlemsmote-harstadgruppen-16/
CATEGORIES:Harstadgruppen
END:VEVENT
BEGIN:VEVENT
DTSTART;TZID=Europe/Oslo:20250430T190000
DTEND;TZID=Europe/Oslo:20250430T210000
DTSTAMP:20260420T151709
CREATED:20250427T180740Z
LAST-MODIFIED:20250427T180740Z
UID:118540-1746039600-1746046800@nrrl.no
SUMMARY:Medlemsmøte Drammensgruppen
DESCRIPTION:
URL:https://nrrl.no/event/medlemsmote-drammensgruppen-38/
CATEGORIES:Drammengruppen
END:VEVENT
BEGIN:VEVENT
DTSTART;TZID=Europe/Oslo:20250430T190000
DTEND;TZID=Europe/Oslo:20250430T210000
DTSTAMP:20260420T151709
CREATED:20250427T180803Z
LAST-MODIFIED:20250427T180803Z
UID:118542-1746039600-1746046800@nrrl.no
SUMMARY:Medlemsmøte Follogruppen
DESCRIPTION:
URL:https://nrrl.no/event/medlemsmote-follogruppen-43/
CATEGORIES:Follogruppen
END:VEVENT
BEGIN:VEVENT
DTSTART;TZID=Europe/Oslo:20250430T190000
DTEND;TZID=Europe/Oslo:20250430T210000
DTSTAMP:20260420T151709
CREATED:20250427T180829Z
LAST-MODIFIED:20250427T180829Z
UID:118544-1746039600-1746046800@nrrl.no
SUMMARY:Medlemsmøte Grenlandsgruppen
DESCRIPTION:
URL:https://nrrl.no/event/medlemsmote-grenlandsgruppen-85/
CATEGORIES:Grenlandsgruppen
END:VEVENT
END:VCALENDAR