BEGIN:VCALENDAR
VERSION:2.0
PRODID:-//Norsk Radio Relæ Liga - ECPv6.15.20//NONSGML v1.0//EN
CALSCALE:GREGORIAN
METHOD:PUBLISH
X-WR-CALNAME:Norsk Radio Relæ Liga
X-ORIGINAL-URL:https://nrrl.no
X-WR-CALDESC:Arrangement for Norsk Radio Relæ Liga
REFRESH-INTERVAL;VALUE=DURATION:PT1H
X-Robots-Tag:noindex
X-PUBLISHED-TTL:PT1H
BEGIN:VTIMEZONE
TZID:Europe/Oslo
BEGIN:DAYLIGHT
TZOFFSETFROM:+0100
TZOFFSETTO:+0200
TZNAME:CEST
DTSTART:20240331T010000
END:DAYLIGHT
BEGIN:STANDARD
TZOFFSETFROM:+0200
TZOFFSETTO:+0100
TZNAME:CET
DTSTART:20241027T010000
END:STANDARD
BEGIN:DAYLIGHT
TZOFFSETFROM:+0100
TZOFFSETTO:+0200
TZNAME:CEST
DTSTART:20250330T010000
END:DAYLIGHT
BEGIN:STANDARD
TZOFFSETFROM:+0200
TZOFFSETTO:+0100
TZNAME:CET
DTSTART:20251026T010000
END:STANDARD
BEGIN:DAYLIGHT
TZOFFSETFROM:+0100
TZOFFSETTO:+0200
TZNAME:CEST
DTSTART:20260329T010000
END:DAYLIGHT
BEGIN:STANDARD
TZOFFSETFROM:+0200
TZOFFSETTO:+0100
TZNAME:CET
DTSTART:20261025T010000
END:STANDARD
END:VTIMEZONE
BEGIN:VEVENT
DTSTART;TZID=Europe/Oslo:20250507T180000
DTEND;TZID=Europe/Oslo:20250507T180000
DTSTAMP:20260420T151347
CREATED:20250129T084639Z
LAST-MODIFIED:20250129T084639Z
UID:109401-1746640800-1746640800@nrrl.no
SUMMARY:Bergensgruppen: Lisenskurs
DESCRIPTION:
URL:https://nrrl.no/event/bergensgruppen-lisenskurs-16/
LOCATION:Digitalt
CATEGORIES:Bergensgruppen,Kurs
END:VEVENT
BEGIN:VEVENT
DTSTART;TZID=Europe/Oslo:20250507T180000
DTEND;TZID=Europe/Oslo:20250507T200000
DTSTAMP:20260420T151347
CREATED:20250427T181821Z
LAST-MODIFIED:20250427T181821Z
UID:118582-1746640800-1746648000@nrrl.no
SUMMARY:Medlemsmøte Modumsgruppen
DESCRIPTION:
URL:https://nrrl.no/event/medlemsmote-modumsgruppen-4/
CATEGORIES:Modumgruppen
END:VEVENT
BEGIN:VEVENT
DTSTART;TZID=Europe/Oslo:20250507T180000
DTEND;TZID=Europe/Oslo:20250507T200000
DTSTAMP:20260420T151347
CREATED:20250427T181856Z
LAST-MODIFIED:20250427T181856Z
UID:118584-1746640800-1746648000@nrrl.no
SUMMARY:Medlemsmøte Sarpsborggruppen
DESCRIPTION:
URL:https://nrrl.no/event/medlemsmote-sarpsborggruppen-4/
CATEGORIES:Saprsborggruppen
END:VEVENT
BEGIN:VEVENT
DTSTART;TZID=Europe/Oslo:20250507T180000
DTEND;TZID=Europe/Oslo:20250507T200000
DTSTAMP:20260420T151347
CREATED:20250504T222440Z
LAST-MODIFIED:20250504T222440Z
UID:118748-1746640800-1746648000@nrrl.no
SUMMARY:Medlemsmøte Harstadgruppen
DESCRIPTION:
URL:https://nrrl.no/event/medlemsmote-harstadgruppen-17/
CATEGORIES:Harstadgruppen
END:VEVENT
BEGIN:VEVENT
DTSTART;TZID=Europe/Oslo:20250507T190000
DTEND;TZID=Europe/Oslo:20250507T210000
DTSTAMP:20260420T151347
CREATED:20250427T182215Z
LAST-MODIFIED:20250427T182215Z
UID:118596-1746644400-1746651600@nrrl.no
SUMMARY:Medlemsmøte Kongsvingergruppen
DESCRIPTION:
URL:https://nrrl.no/event/medlemsmote-kongsvingergruppen-2/
CATEGORIES:Kongsvingergruppen
END:VEVENT
BEGIN:VEVENT
DTSTART;TZID=Europe/Oslo:20250507T190000
DTEND;TZID=Europe/Oslo:20250507T210000
DTSTAMP:20260420T151347
CREATED:20250504T221933Z
LAST-MODIFIED:20250504T221933Z
UID:118724-1746644400-1746651600@nrrl.no
SUMMARY:Medlemsmøte Drammensgruppen
DESCRIPTION:
URL:https://nrrl.no/event/medlemsmote-drammensgruppen-39/
CATEGORIES:Drammengruppen
END:VEVENT
BEGIN:VEVENT
DTSTART;TZID=Europe/Oslo:20250507T190000
DTEND;TZID=Europe/Oslo:20250507T210000
DTSTAMP:20260420T151347
CREATED:20250504T221954Z
LAST-MODIFIED:20250504T221954Z
UID:118726-1746644400-1746651600@nrrl.no
SUMMARY:Medlemsmøte Follogruppen
DESCRIPTION:
URL:https://nrrl.no/event/medlemsmote-follogruppen-44/
CATEGORIES:Follogruppen
END:VEVENT
BEGIN:VEVENT
DTSTART;TZID=Europe/Oslo:20250507T190000
DTEND;TZID=Europe/Oslo:20250507T220000
DTSTAMP:20260420T151347
CREATED:20250504T222018Z
LAST-MODIFIED:20250504T222018Z
UID:118728-1746644400-1746655200@nrrl.no
SUMMARY:Medlemsmøte Grenlandsgruppen
DESCRIPTION:
URL:https://nrrl.no/event/medlemsmote-grenlandsgruppen-87/
CATEGORIES:Grenlandsgruppen
END:VEVENT
END:VCALENDAR