BEGIN:VCALENDAR
VERSION:2.0
PRODID:-//Norsk Radio Relæ Liga - ECPv6.15.20//NONSGML v1.0//EN
CALSCALE:GREGORIAN
METHOD:PUBLISH
X-WR-CALNAME:Norsk Radio Relæ Liga
X-ORIGINAL-URL:https://nrrl.no
X-WR-CALDESC:Arrangement for Norsk Radio Relæ Liga
REFRESH-INTERVAL;VALUE=DURATION:PT1H
X-Robots-Tag:noindex
X-PUBLISHED-TTL:PT1H
BEGIN:VTIMEZONE
TZID:Europe/Oslo
BEGIN:DAYLIGHT
TZOFFSETFROM:+0100
TZOFFSETTO:+0200
TZNAME:CEST
DTSTART:20240331T010000
END:DAYLIGHT
BEGIN:STANDARD
TZOFFSETFROM:+0200
TZOFFSETTO:+0100
TZNAME:CET
DTSTART:20241027T010000
END:STANDARD
BEGIN:DAYLIGHT
TZOFFSETFROM:+0100
TZOFFSETTO:+0200
TZNAME:CEST
DTSTART:20250330T010000
END:DAYLIGHT
BEGIN:STANDARD
TZOFFSETFROM:+0200
TZOFFSETTO:+0100
TZNAME:CET
DTSTART:20251026T010000
END:STANDARD
BEGIN:DAYLIGHT
TZOFFSETFROM:+0100
TZOFFSETTO:+0200
TZNAME:CEST
DTSTART:20260329T010000
END:DAYLIGHT
BEGIN:STANDARD
TZOFFSETFROM:+0200
TZOFFSETTO:+0100
TZNAME:CET
DTSTART:20261025T010000
END:STANDARD
END:VTIMEZONE
BEGIN:VEVENT
DTSTART;TZID=Europe/Oslo:20250513T110000
DTEND;TZID=Europe/Oslo:20250513T130000
DTSTAMP:20260420T150213
CREATED:20250511T220352Z
LAST-MODIFIED:20250511T220352Z
UID:118820-1747134000-1747141200@nrrl.no
SUMMARY:Medlemsmøte Hortengruppen
DESCRIPTION:
URL:https://nrrl.no/event/medlemsmote-hortengruppen-83/
CATEGORIES:Hortengruppen
END:VEVENT
BEGIN:VEVENT
DTSTART;TZID=Europe/Oslo:20250513T180000
DTEND;TZID=Europe/Oslo:20250513T200000
DTSTAMP:20260420T150213
CREATED:20250427T181643Z
LAST-MODIFIED:20250427T181643Z
UID:118578-1747159200-1747166400@nrrl.no
SUMMARY:Medlemsmøte Larvikgruppen
DESCRIPTION:
URL:https://nrrl.no/event/medlemsmote-larvikgruppen-14/
CATEGORIES:Larvikgruppen
END:VEVENT
BEGIN:VEVENT
DTSTART;TZID=Europe/Oslo:20250513T190000
DTEND;TZID=Europe/Oslo:20250513T210000
DTSTAMP:20260420T150213
CREATED:20250511T220533Z
LAST-MODIFIED:20250511T220533Z
UID:118826-1747162800-1747170000@nrrl.no
SUMMARY:Medlemsmøte Tromsøgruppen
DESCRIPTION:
URL:https://nrrl.no/event/medlemsmote-tromsogruppen-89/
CATEGORIES:Tromsøgruppen
END:VEVENT
BEGIN:VEVENT
DTSTART;TZID=Europe/Oslo:20250513T190000
DTEND;TZID=Europe/Oslo:20250513T210000
DTSTAMP:20260420T150213
CREATED:20250511T220636Z
LAST-MODIFIED:20250511T220636Z
UID:118830-1747162800-1747170000@nrrl.no
SUMMARY:Medlemsmøte Trondheimsgruppen
DESCRIPTION:
URL:https://nrrl.no/event/medlemsmote-trondheimsgruppen-40/
CATEGORIES:Trondheimsgruppen
END:VEVENT
BEGIN:VEVENT
DTSTART;TZID=Europe/Oslo:20250513T190000
DTEND;TZID=Europe/Oslo:20250513T210000
DTSTAMP:20260420T150213
CREATED:20250511T220737Z
LAST-MODIFIED:20250511T220737Z
UID:118834-1747162800-1747170000@nrrl.no
SUMMARY:Medlemsmøte Kristiansandgruppen
DESCRIPTION:
URL:https://nrrl.no/event/medlemsmote-kristiansandgruppen-14/
CATEGORIES:Kristiansandgruppen
END:VEVENT
END:VCALENDAR