BEGIN:VCALENDAR
VERSION:2.0
PRODID:-//Norsk Radio Relæ Liga - ECPv6.15.20//NONSGML v1.0//EN
CALSCALE:GREGORIAN
METHOD:PUBLISH
X-WR-CALNAME:Norsk Radio Relæ Liga
X-ORIGINAL-URL:https://nrrl.no
X-WR-CALDESC:Arrangement for Norsk Radio Relæ Liga
REFRESH-INTERVAL;VALUE=DURATION:PT1H
X-Robots-Tag:noindex
X-PUBLISHED-TTL:PT1H
BEGIN:VTIMEZONE
TZID:Europe/Oslo
BEGIN:DAYLIGHT
TZOFFSETFROM:+0100
TZOFFSETTO:+0200
TZNAME:CEST
DTSTART:20240331T010000
END:DAYLIGHT
BEGIN:STANDARD
TZOFFSETFROM:+0200
TZOFFSETTO:+0100
TZNAME:CET
DTSTART:20241027T010000
END:STANDARD
BEGIN:DAYLIGHT
TZOFFSETFROM:+0100
TZOFFSETTO:+0200
TZNAME:CEST
DTSTART:20250330T010000
END:DAYLIGHT
BEGIN:STANDARD
TZOFFSETFROM:+0200
TZOFFSETTO:+0100
TZNAME:CET
DTSTART:20251026T010000
END:STANDARD
BEGIN:DAYLIGHT
TZOFFSETFROM:+0100
TZOFFSETTO:+0200
TZNAME:CEST
DTSTART:20260329T010000
END:DAYLIGHT
BEGIN:STANDARD
TZOFFSETFROM:+0200
TZOFFSETTO:+0100
TZNAME:CET
DTSTART:20261025T010000
END:STANDARD
END:VTIMEZONE
BEGIN:VEVENT
DTSTART;TZID=Europe/Oslo:20251016T180000
DTEND;TZID=Europe/Oslo:20251016T200000
DTSTAMP:20260420T071052
CREATED:20251012T161228Z
LAST-MODIFIED:20251012T161228Z
UID:122942-1760637600-1760644800@nrrl.no
SUMMARY:Medlemsmøte Ryfylkegruppen
DESCRIPTION:
URL:https://nrrl.no/event/medlemsmote-ryfylkegruppen-50/
CATEGORIES:Ryfylkegruppen
END:VEVENT
BEGIN:VEVENT
DTSTART;TZID=Europe/Oslo:20251016T183000
DTEND;TZID=Europe/Oslo:20251016T213000
DTSTAMP:20260420T071052
CREATED:20250429T165528Z
LAST-MODIFIED:20250429T165528Z
UID:118639-1760639400-1760650200@nrrl.no
SUMMARY:Oslogruppen: Lisenskurs
DESCRIPTION:Kurset går over 14 kurskvelder med tentamen 27. november 2025. Du kan delta digitalt eller fysisk. \nEksamen blir i begynnelsen av desember. \nFlere opplysninger via skjema som du finner her: https://la4o.no/kurs
URL:https://nrrl.no/event/oslogruppen-lisenskurs-8/
LOCATION:Nedre Rommen 5 E\, 0915 Oslo
CATEGORIES:Kurs,Oslogruppen
END:VEVENT
BEGIN:VEVENT
DTSTART;TZID=Europe/Oslo:20251016T190000
DTEND;TZID=Europe/Oslo:20251016T210000
DTSTAMP:20260420T071052
CREATED:20250928T154638Z
LAST-MODIFIED:20250928T154638Z
UID:122774-1760641200-1760648400@nrrl.no
SUMMARY:Medlemsmøte Egersundgruppen
DESCRIPTION:
URL:https://nrrl.no/event/medlemsmote-egersundgruppen-24/
CATEGORIES:Egersundgruppen
END:VEVENT
BEGIN:VEVENT
DTSTART;TZID=Europe/Oslo:20251016T190000
DTEND;TZID=Europe/Oslo:20251016T210000
DTSTAMP:20260420T071052
CREATED:20251012T161049Z
LAST-MODIFIED:20251012T161049Z
UID:122936-1760641200-1760648400@nrrl.no
SUMMARY:Medlemsmøte Haldengruppen
DESCRIPTION:
URL:https://nrrl.no/event/medlemsmote-haldengruppen-50/
CATEGORIES:Haldengruppen
END:VEVENT
BEGIN:VEVENT
DTSTART;TZID=Europe/Oslo:20251016T190000
DTEND;TZID=Europe/Oslo:20251016T210000
DTSTAMP:20260420T071052
CREATED:20251012T161118Z
LAST-MODIFIED:20251012T161118Z
UID:122938-1760641200-1760648400@nrrl.no
SUMMARY:Medlemsmøte Hortengruppen
DESCRIPTION:
URL:https://nrrl.no/event/medlemsmote-hortengruppen-92/
CATEGORIES:Hortengruppen
END:VEVENT
END:VCALENDAR