BEGIN:VCALENDAR
VERSION:2.0
PRODID:-//Norsk Radio Relæ Liga - ECPv6.15.20//NONSGML v1.0//EN
CALSCALE:GREGORIAN
METHOD:PUBLISH
X-ORIGINAL-URL:https://nrrl.no
X-WR-CALDESC:Arrangement for Norsk Radio Relæ Liga
REFRESH-INTERVAL;VALUE=DURATION:PT1H
X-Robots-Tag:noindex
X-PUBLISHED-TTL:PT1H
BEGIN:VTIMEZONE
TZID:Europe/Oslo
BEGIN:DAYLIGHT
TZOFFSETFROM:+0100
TZOFFSETTO:+0200
TZNAME:CEST
DTSTART:20240331T010000
END:DAYLIGHT
BEGIN:STANDARD
TZOFFSETFROM:+0200
TZOFFSETTO:+0100
TZNAME:CET
DTSTART:20241027T010000
END:STANDARD
BEGIN:DAYLIGHT
TZOFFSETFROM:+0100
TZOFFSETTO:+0200
TZNAME:CEST
DTSTART:20250330T010000
END:DAYLIGHT
BEGIN:STANDARD
TZOFFSETFROM:+0200
TZOFFSETTO:+0100
TZNAME:CET
DTSTART:20251026T010000
END:STANDARD
BEGIN:DAYLIGHT
TZOFFSETFROM:+0100
TZOFFSETTO:+0200
TZNAME:CEST
DTSTART:20260329T010000
END:DAYLIGHT
BEGIN:STANDARD
TZOFFSETFROM:+0200
TZOFFSETTO:+0100
TZNAME:CET
DTSTART:20261025T010000
END:STANDARD
END:VTIMEZONE
BEGIN:VEVENT
DTSTART;TZID=Europe/Oslo:20251028T190000
DTEND;TZID=Europe/Oslo:20251028T210000
DTSTAMP:20260420T052823
CREATED:20251026T171453Z
LAST-MODIFIED:20251026T171453Z
UID:123113-1761678000-1761685200@nrrl.no
SUMMARY:Medlemsmøte Tromsøgruppen
DESCRIPTION:
URL:https://nrrl.no/event/medlemsmote-tromsogruppen-101/
CATEGORIES:Tromsøgruppen
END:VEVENT
BEGIN:VEVENT
DTSTART;TZID=Europe/Oslo:20251028T190000
DTEND;TZID=Europe/Oslo:20251028T210000
DTSTAMP:20260420T052823
CREATED:20251026T171532Z
LAST-MODIFIED:20251026T171532Z
UID:123115-1761678000-1761685200@nrrl.no
SUMMARY:Medlemsmøte Trondheimsgruppen
DESCRIPTION:
URL:https://nrrl.no/event/medlemsmote-trondheimsgruppen-46/
CATEGORIES:Trondheimsgruppen
END:VEVENT
END:VCALENDAR