BEGIN:VCALENDAR
VERSION:2.0
PRODID:-//Norsk Radio Relæ Liga - ECPv6.15.20//NONSGML v1.0//EN
CALSCALE:GREGORIAN
METHOD:PUBLISH
X-ORIGINAL-URL:https://nrrl.no
X-WR-CALDESC:Arrangement for Norsk Radio Relæ Liga
REFRESH-INTERVAL;VALUE=DURATION:PT1H
X-Robots-Tag:noindex
X-PUBLISHED-TTL:PT1H
BEGIN:VTIMEZONE
TZID:Europe/Oslo
BEGIN:DAYLIGHT
TZOFFSETFROM:+0100
TZOFFSETTO:+0200
TZNAME:CEST
DTSTART:20240331T010000
END:DAYLIGHT
BEGIN:STANDARD
TZOFFSETFROM:+0200
TZOFFSETTO:+0100
TZNAME:CET
DTSTART:20241027T010000
END:STANDARD
BEGIN:DAYLIGHT
TZOFFSETFROM:+0100
TZOFFSETTO:+0200
TZNAME:CEST
DTSTART:20250330T010000
END:DAYLIGHT
BEGIN:STANDARD
TZOFFSETFROM:+0200
TZOFFSETTO:+0100
TZNAME:CET
DTSTART:20251026T010000
END:STANDARD
BEGIN:DAYLIGHT
TZOFFSETFROM:+0100
TZOFFSETTO:+0200
TZNAME:CEST
DTSTART:20260329T010000
END:DAYLIGHT
BEGIN:STANDARD
TZOFFSETFROM:+0200
TZOFFSETTO:+0100
TZNAME:CET
DTSTART:20261025T010000
END:STANDARD
END:VTIMEZONE
BEGIN:VEVENT
DTSTART;TZID=Europe/Oslo:20251106T183000
DTEND;TZID=Europe/Oslo:20251106T213000
DTSTAMP:20260420T052821
CREATED:20250429T165611Z
LAST-MODIFIED:20250429T165611Z
UID:118645-1762453800-1762464600@nrrl.no
SUMMARY:Oslogruppen: Lisenskurs
DESCRIPTION:Kurset går over 14 kurskvelder med tentamen 27. november 2025. Du kan delta digitalt eller fysisk. \nEksamen blir i begynnelsen av desember. \nFlere opplysninger via skjema som du finner her: https://la4o.no/kurs
URL:https://nrrl.no/event/oslogruppen-lisenskurs-11/
LOCATION:Nedre Rommen 5 E\, 0915 Oslo
CATEGORIES:Kurs,Oslogruppen
END:VEVENT
END:VCALENDAR