BEGIN:VCALENDAR
VERSION:2.0
PRODID:-//Norsk Radio Relæ Liga - ECPv6.15.20//NONSGML v1.0//EN
CALSCALE:GREGORIAN
METHOD:PUBLISH
X-ORIGINAL-URL:https://nrrl.no
X-WR-CALDESC:Arrangement for Norsk Radio Relæ Liga
REFRESH-INTERVAL;VALUE=DURATION:PT1H
X-Robots-Tag:noindex
X-PUBLISHED-TTL:PT1H
BEGIN:VTIMEZONE
TZID:Europe/Oslo
BEGIN:DAYLIGHT
TZOFFSETFROM:+0100
TZOFFSETTO:+0200
TZNAME:CEST
DTSTART:20250330T010000
END:DAYLIGHT
BEGIN:STANDARD
TZOFFSETFROM:+0200
TZOFFSETTO:+0100
TZNAME:CET
DTSTART:20251026T010000
END:STANDARD
BEGIN:DAYLIGHT
TZOFFSETFROM:+0100
TZOFFSETTO:+0200
TZNAME:CEST
DTSTART:20260329T010000
END:DAYLIGHT
BEGIN:STANDARD
TZOFFSETFROM:+0200
TZOFFSETTO:+0100
TZNAME:CET
DTSTART:20261025T010000
END:STANDARD
BEGIN:DAYLIGHT
TZOFFSETFROM:+0100
TZOFFSETTO:+0200
TZNAME:CEST
DTSTART:20270328T010000
END:DAYLIGHT
BEGIN:STANDARD
TZOFFSETFROM:+0200
TZOFFSETTO:+0100
TZNAME:CET
DTSTART:20271031T010000
END:STANDARD
END:VTIMEZONE
BEGIN:VEVENT
DTSTART;TZID=Europe/Oslo:20260118T080000
DTEND;TZID=Europe/Oslo:20260118T100000
DTSTAMP:20260420T003400
CREATED:20260112T082504Z
LAST-MODIFIED:20260112T082504Z
UID:123912-1768723200-1768730400@nrrl.no
SUMMARY:Contest: NRRL Fylkestest Periode 3
DESCRIPTION:NRRL Fylkestest er en nasjonal telegrafitest med to klare mål: \n\nå samle norske radioamatører i en felles aktivitet\nå gi god trening i operasjonsteknikk og telegrafiprosedyre\n\nTesten avholdes hver tredje helg i januar og er åpen for alle norske radioamatører og lytteramatører som er tilsluttet NRRL. Du benytter ditt eget kallesignal\, og for dem som ønsker å samarbeide\, finnes det også en klasse for flere operatører. \nPeriode 3: Søndag kl. 07.00 – 09.00 UTC \nRegler finner du her.
URL:https://nrrl.no/event/contest-nrrl-fylkestest-2026-periode-3/
CATEGORIES:Konkurranser
END:VEVENT
BEGIN:VEVENT
DTSTART;TZID=Europe/Oslo:20260118T140000
DTEND;TZID=Europe/Oslo:20260118T160000
DTSTAMP:20260420T003400
CREATED:20260112T082551Z
LAST-MODIFIED:20260112T082607Z
UID:123914-1768744800-1768752000@nrrl.no
SUMMARY:Contest: NRRL Fylkestest Periode 4
DESCRIPTION:NRRL Fylkestest er en nasjonal telegrafitest med to klare mål: \n\nå samle norske radioamatører i en felles aktivitet\nå gi god trening i operasjonsteknikk og telegrafiprosedyre\n\nTesten avholdes hver tredje helg i januar og er åpen for alle norske radioamatører og lytteramatører som er tilsluttet NRRL. Du benytter ditt eget kallesignal\, og for dem som ønsker å samarbeide\, finnes det også en klasse for flere operatører. \nPeriode 4: Søndag kl. 13.00 – 15.00 UTC \nRegler finner du her.
URL:https://nrrl.no/event/contest-nrrl-fylkestest-2026-periode-4/
CATEGORIES:Konkurranser
END:VEVENT
END:VCALENDAR