BEGIN:VCALENDAR
VERSION:2.0
PRODID:-//Norsk Radio Relæ Liga - ECPv6.15.20//NONSGML v1.0//EN
CALSCALE:GREGORIAN
METHOD:PUBLISH
X-ORIGINAL-URL:https://nrrl.no
X-WR-CALDESC:Arrangement for Norsk Radio Relæ Liga
REFRESH-INTERVAL;VALUE=DURATION:PT1H
X-Robots-Tag:noindex
X-PUBLISHED-TTL:PT1H
BEGIN:VTIMEZONE
TZID:Europe/Oslo
BEGIN:DAYLIGHT
TZOFFSETFROM:+0100
TZOFFSETTO:+0200
TZNAME:CEST
DTSTART:20230326T010000
END:DAYLIGHT
BEGIN:STANDARD
TZOFFSETFROM:+0200
TZOFFSETTO:+0100
TZNAME:CET
DTSTART:20231029T010000
END:STANDARD
BEGIN:DAYLIGHT
TZOFFSETFROM:+0100
TZOFFSETTO:+0200
TZNAME:CEST
DTSTART:20240331T010000
END:DAYLIGHT
BEGIN:STANDARD
TZOFFSETFROM:+0200
TZOFFSETTO:+0100
TZNAME:CET
DTSTART:20241027T010000
END:STANDARD
BEGIN:DAYLIGHT
TZOFFSETFROM:+0100
TZOFFSETTO:+0200
TZNAME:CEST
DTSTART:20250330T010000
END:DAYLIGHT
BEGIN:STANDARD
TZOFFSETFROM:+0200
TZOFFSETTO:+0100
TZNAME:CET
DTSTART:20251026T010000
END:STANDARD
END:VTIMEZONE
BEGIN:VEVENT
DTSTART;TZID=Europe/Oslo:20240801T190000
DTEND;TZID=Europe/Oslo:20240801T210000
DTSTAMP:20260421T211128
CREATED:20240728T151345Z
LAST-MODIFIED:20240728T151345Z
UID:79136-1722538800-1722546000@nrrl.no
SUMMARY:Medlemsmøte Egersundgruppen
DESCRIPTION:
URL:https://nrrl.no/event/medlemsmote-egersundgruppen-6/
CATEGORIES:Egersundgruppen
END:VEVENT
BEGIN:VEVENT
DTSTART;TZID=Europe/Oslo:20240815T190000
DTEND;TZID=Europe/Oslo:20240815T210000
DTSTAMP:20260421T211128
CREATED:20240728T151415Z
LAST-MODIFIED:20240728T151415Z
UID:79138-1723748400-1723755600@nrrl.no
SUMMARY:Medlemsmøte Egersundgruppen
DESCRIPTION:
URL:https://nrrl.no/event/medlemsmote-egersundgruppen-7/
CATEGORIES:Egersundgruppen
END:VEVENT
END:VCALENDAR