BEGIN:VCALENDAR
VERSION:2.0
PRODID:-//Norsk Radio Relæ Liga - ECPv6.15.20//NONSGML v1.0//EN
CALSCALE:GREGORIAN
METHOD:PUBLISH
X-WR-CALNAME:Norsk Radio Relæ Liga
X-ORIGINAL-URL:https://nrrl.no
X-WR-CALDESC:Arrangement for Norsk Radio Relæ Liga
REFRESH-INTERVAL;VALUE=DURATION:PT1H
X-Robots-Tag:noindex
X-PUBLISHED-TTL:PT1H
BEGIN:VTIMEZONE
TZID:Europe/Oslo
BEGIN:DAYLIGHT
TZOFFSETFROM:+0100
TZOFFSETTO:+0200
TZNAME:CEST
DTSTART:20240331T010000
END:DAYLIGHT
BEGIN:STANDARD
TZOFFSETFROM:+0200
TZOFFSETTO:+0100
TZNAME:CET
DTSTART:20241027T010000
END:STANDARD
BEGIN:DAYLIGHT
TZOFFSETFROM:+0100
TZOFFSETTO:+0200
TZNAME:CEST
DTSTART:20250330T010000
END:DAYLIGHT
BEGIN:STANDARD
TZOFFSETFROM:+0200
TZOFFSETTO:+0100
TZNAME:CET
DTSTART:20251026T010000
END:STANDARD
BEGIN:DAYLIGHT
TZOFFSETFROM:+0100
TZOFFSETTO:+0200
TZNAME:CEST
DTSTART:20260329T010000
END:DAYLIGHT
BEGIN:STANDARD
TZOFFSETFROM:+0200
TZOFFSETTO:+0100
TZNAME:CET
DTSTART:20261025T010000
END:STANDARD
END:VTIMEZONE
BEGIN:VEVENT
DTSTART;TZID=Europe/Oslo:20250503T103000
DTEND;TZID=Europe/Oslo:20250503T130000
DTSTAMP:20260422T115630
CREATED:20250427T180901Z
LAST-MODIFIED:20250427T180901Z
UID:118546-1746268200-1746277200@nrrl.no
SUMMARY:Medlemsmøte Grenlandsgruppen
DESCRIPTION:
URL:https://nrrl.no/event/medlemsmote-grenlandsgruppen-86/
CATEGORIES:Grenlandsgruppen
END:VEVENT
BEGIN:VEVENT
DTSTART;TZID=Europe/Oslo:20250507T190000
DTEND;TZID=Europe/Oslo:20250507T220000
DTSTAMP:20260422T115630
CREATED:20250504T222018Z
LAST-MODIFIED:20250504T222018Z
UID:118728-1746644400-1746655200@nrrl.no
SUMMARY:Medlemsmøte Grenlandsgruppen
DESCRIPTION:
URL:https://nrrl.no/event/medlemsmote-grenlandsgruppen-87/
CATEGORIES:Grenlandsgruppen
END:VEVENT
BEGIN:VEVENT
DTSTART;TZID=Europe/Oslo:20250510T103000
DTEND;TZID=Europe/Oslo:20250510T130000
DTSTAMP:20260422T115630
CREATED:20250504T222040Z
LAST-MODIFIED:20250504T222040Z
UID:118730-1746873000-1746882000@nrrl.no
SUMMARY:Medlemsmøte Grenlandsgruppen
DESCRIPTION:
URL:https://nrrl.no/event/medlemsmote-grenlandsgruppen-88/
CATEGORIES:Grenlandsgruppen
END:VEVENT
BEGIN:VEVENT
DTSTART;TZID=Europe/Oslo:20250514T190000
DTEND;TZID=Europe/Oslo:20250514T220000
DTSTAMP:20260422T115630
CREATED:20250511T220149Z
LAST-MODIFIED:20250511T220149Z
UID:118812-1747249200-1747260000@nrrl.no
SUMMARY:Medlemsmøte Grenlandsgruppen
DESCRIPTION:
URL:https://nrrl.no/event/medlemsmote-grenlandsgruppen-89/
CATEGORIES:Grenlandsgruppen
END:VEVENT
BEGIN:VEVENT
DTSTART;TZID=Europe/Oslo:20250517T103000
DTEND;TZID=Europe/Oslo:20250517T130000
DTSTAMP:20260422T115630
CREATED:20250511T220217Z
LAST-MODIFIED:20250511T220217Z
UID:118814-1747477800-1747486800@nrrl.no
SUMMARY:Medlemsmøte Grenlandsgruppen
DESCRIPTION:
URL:https://nrrl.no/event/medlemsmote-grenlandsgruppen-90/
CATEGORIES:Grenlandsgruppen
END:VEVENT
BEGIN:VEVENT
DTSTART;TZID=Europe/Oslo:20250528T190000
DTEND;TZID=Europe/Oslo:20250528T210000
DTSTAMP:20260422T115630
CREATED:20250525T151943Z
LAST-MODIFIED:20250525T151943Z
UID:119024-1748458800-1748466000@nrrl.no
SUMMARY:Medlemsmøte Grenlandsgruppen
DESCRIPTION:
URL:https://nrrl.no/event/medlemsmote-grenlandsgruppen-91/
CATEGORIES:Grenlandsgruppen
END:VEVENT
BEGIN:VEVENT
DTSTART;TZID=Europe/Oslo:20250531T103000
DTEND;TZID=Europe/Oslo:20250531T130000
DTSTAMP:20260422T115630
CREATED:20250525T152021Z
LAST-MODIFIED:20250525T152021Z
UID:119026-1748687400-1748696400@nrrl.no
SUMMARY:Medlemsmøte Grenlandsgruppen
DESCRIPTION:
URL:https://nrrl.no/event/medlemsmote-grenlandsgruppen-92/
CATEGORIES:Grenlandsgruppen
END:VEVENT
END:VCALENDAR