BEGIN:VCALENDAR
VERSION:2.0
PRODID:-//Norsk Radio Relæ Liga - ECPv6.15.20//NONSGML v1.0//EN
CALSCALE:GREGORIAN
METHOD:PUBLISH
X-WR-CALNAME:Norsk Radio Relæ Liga
X-ORIGINAL-URL:https://nrrl.no
X-WR-CALDESC:Arrangement for Norsk Radio Relæ Liga
REFRESH-INTERVAL;VALUE=DURATION:PT1H
X-Robots-Tag:noindex
X-PUBLISHED-TTL:PT1H
BEGIN:VTIMEZONE
TZID:Europe/Oslo
BEGIN:DAYLIGHT
TZOFFSETFROM:+0100
TZOFFSETTO:+0200
TZNAME:CEST
DTSTART:20240331T010000
END:DAYLIGHT
BEGIN:STANDARD
TZOFFSETFROM:+0200
TZOFFSETTO:+0100
TZNAME:CET
DTSTART:20241027T010000
END:STANDARD
BEGIN:DAYLIGHT
TZOFFSETFROM:+0100
TZOFFSETTO:+0200
TZNAME:CEST
DTSTART:20250330T010000
END:DAYLIGHT
BEGIN:STANDARD
TZOFFSETFROM:+0200
TZOFFSETTO:+0100
TZNAME:CET
DTSTART:20251026T010000
END:STANDARD
BEGIN:DAYLIGHT
TZOFFSETFROM:+0100
TZOFFSETTO:+0200
TZNAME:CEST
DTSTART:20260329T010000
END:DAYLIGHT
BEGIN:STANDARD
TZOFFSETFROM:+0200
TZOFFSETTO:+0100
TZNAME:CET
DTSTART:20261025T010000
END:STANDARD
END:VTIMEZONE
BEGIN:VEVENT
DTSTART;VALUE=DATE:20251104
DTEND;VALUE=DATE:20251105
DTSTAMP:20260421T190902
CREATED:20251104T114931Z
LAST-MODIFIED:20251104T114931Z
UID:123236-1762214400-1762300799@nrrl.no
SUMMARY:LM100IARU: KONTORET
DESCRIPTION:
URL:https://nrrl.no/event/lm100iaru-kontoret-7/
CATEGORIES:LM100IARU
END:VEVENT
BEGIN:VEVENT
DTSTART;VALUE=DATE:20251113
DTEND;VALUE=DATE:20251114
DTSTAMP:20260421T190902
CREATED:20251113T101823Z
LAST-MODIFIED:20251113T101823Z
UID:123328-1762992000-1763078399@nrrl.no
SUMMARY:LM100IARU: KONTORET
DESCRIPTION:
URL:https://nrrl.no/event/lm100iaru-kontoret-8/
CATEGORIES:LM100IARU
END:VEVENT
BEGIN:VEVENT
DTSTART;VALUE=DATE:20251125
DTEND;VALUE=DATE:20251126
DTSTAMP:20260421T190902
CREATED:20251125T111332Z
LAST-MODIFIED:20251125T111332Z
UID:123441-1764028800-1764115199@nrrl.no
SUMMARY:LM100IARU: KONTORET
DESCRIPTION:
URL:https://nrrl.no/event/lm100iaru-kontoret-9/
CATEGORIES:LM100IARU
END:VEVENT
BEGIN:VEVENT
DTSTART;VALUE=DATE:20251127
DTEND;VALUE=DATE:20251128
DTSTAMP:20260421T190902
CREATED:20251127T102902Z
LAST-MODIFIED:20251127T102902Z
UID:123461-1764201600-1764287999@nrrl.no
SUMMARY:LM100IARU: KONTORET
DESCRIPTION:
URL:https://nrrl.no/event/lm100iaru-kontoret-10/
CATEGORIES:LM100IARU
END:VEVENT
END:VCALENDAR