BEGIN:VCALENDAR
VERSION:2.0
PRODID:-//Norsk Radio Relæ Liga - ECPv6.15.20//NONSGML v1.0//EN
CALSCALE:GREGORIAN
METHOD:PUBLISH
X-ORIGINAL-URL:https://nrrl.no
X-WR-CALDESC:Arrangement for Norsk Radio Relæ Liga
REFRESH-INTERVAL;VALUE=DURATION:PT1H
X-Robots-Tag:noindex
X-PUBLISHED-TTL:PT1H
BEGIN:VTIMEZONE
TZID:Europe/Oslo
BEGIN:DAYLIGHT
TZOFFSETFROM:+0100
TZOFFSETTO:+0200
TZNAME:CEST
DTSTART:20240331T010000
END:DAYLIGHT
BEGIN:STANDARD
TZOFFSETFROM:+0200
TZOFFSETTO:+0100
TZNAME:CET
DTSTART:20241027T010000
END:STANDARD
BEGIN:DAYLIGHT
TZOFFSETFROM:+0100
TZOFFSETTO:+0200
TZNAME:CEST
DTSTART:20250330T010000
END:DAYLIGHT
BEGIN:STANDARD
TZOFFSETFROM:+0200
TZOFFSETTO:+0100
TZNAME:CET
DTSTART:20251026T010000
END:STANDARD
BEGIN:DAYLIGHT
TZOFFSETFROM:+0100
TZOFFSETTO:+0200
TZNAME:CEST
DTSTART:20260329T010000
END:DAYLIGHT
BEGIN:STANDARD
TZOFFSETFROM:+0200
TZOFFSETTO:+0100
TZNAME:CET
DTSTART:20261025T010000
END:STANDARD
END:VTIMEZONE
BEGIN:VEVENT
DTSTART;TZID=Europe/Oslo:20250113T190000
DTEND;TZID=Europe/Oslo:20250113T210000
DTSTAMP:20260420T200824
CREATED:20250112T200129Z
LAST-MODIFIED:20250112T200129Z
UID:87279-1736794800-1736802000@nrrl.no
SUMMARY:Medlemsmøte Sandefjordgruppen
DESCRIPTION:
URL:https://nrrl.no/event/medlemsmote-sandefjordgruppen-27/
CATEGORIES:Sandefjordgruppen
END:VEVENT
BEGIN:VEVENT
DTSTART;TZID=Europe/Oslo:20250114T110000
DTEND;TZID=Europe/Oslo:20250114T130000
DTSTAMP:20260420T200824
CREATED:20250112T200023Z
LAST-MODIFIED:20250112T200023Z
UID:87274-1736852400-1736859600@nrrl.no
SUMMARY:Medlemsmøte Hortengruppen
DESCRIPTION:
URL:https://nrrl.no/event/medlemsmote-hortengruppen-51/
CATEGORIES:Hortengruppen
END:VEVENT
BEGIN:VEVENT
DTSTART;TZID=Europe/Oslo:20250114T190000
DTEND;TZID=Europe/Oslo:20250114T210000
DTSTAMP:20260420T200824
CREATED:20250112T200202Z
LAST-MODIFIED:20250112T200202Z
UID:87281-1736881200-1736888400@nrrl.no
SUMMARY:Medlemsmøte Tromsøgruppen
DESCRIPTION:
URL:https://nrrl.no/event/medlemsmote-tromsogruppen-57/
CATEGORIES:Tromsøgruppen
END:VEVENT
BEGIN:VEVENT
DTSTART;TZID=Europe/Oslo:20250114T190000
DTEND;TZID=Europe/Oslo:20250114T210000
DTSTAMP:20260420T200824
CREATED:20250112T200300Z
LAST-MODIFIED:20250112T200300Z
UID:87285-1736881200-1736888400@nrrl.no
SUMMARY:Medlemsmøte Trondheimsgruppen
DESCRIPTION:
URL:https://nrrl.no/event/medlemsmote-trondheimsgruppen-25/
CATEGORIES:Trondheimsgruppen
END:VEVENT
BEGIN:VEVENT
DTSTART;TZID=Europe/Oslo:20250115T180000
DTEND;TZID=Europe/Oslo:20250115T200000
DTSTAMP:20260420T200824
CREATED:20250112T195925Z
LAST-MODIFIED:20250112T195925Z
UID:87269-1736964000-1736971200@nrrl.no
SUMMARY:Medlemsmøte Harstadgruppen
DESCRIPTION:
URL:https://nrrl.no/event/medlemsmote-harstadgruppen-2/
CATEGORIES:Harstadgruppen
END:VEVENT
BEGIN:VEVENT
DTSTART;TZID=Europe/Oslo:20250115T190000
DTEND;TZID=Europe/Oslo:20250115T210000
DTSTAMP:20260420T200824
CREATED:20250112T195703Z
LAST-MODIFIED:20250112T195703Z
UID:87258-1736967600-1736974800@nrrl.no
SUMMARY:Medlemsmøte Drammensgruppen
DESCRIPTION:
URL:https://nrrl.no/event/medlemsmote-drammensgruppen-24/
CATEGORIES:Drammengruppen
END:VEVENT
BEGIN:VEVENT
DTSTART;TZID=Europe/Oslo:20250115T190000
DTEND;TZID=Europe/Oslo:20250115T210000
DTSTAMP:20260420T200824
CREATED:20250112T195727Z
LAST-MODIFIED:20250112T195727Z
UID:87260-1736967600-1736974800@nrrl.no
SUMMARY:Medlemsmøte Follogruppen
DESCRIPTION:
URL:https://nrrl.no/event/medlemsmote-follogruppen-29/
CATEGORIES:Follogruppen
END:VEVENT
BEGIN:VEVENT
DTSTART;TZID=Europe/Oslo:20250115T190000
DTEND;TZID=Europe/Oslo:20250115T220000
DTSTAMP:20260420T200824
CREATED:20250112T195803Z
LAST-MODIFIED:20250112T195803Z
UID:87262-1736967600-1736978400@nrrl.no
SUMMARY:Medlemsmøte Grenlandsgruppen
DESCRIPTION:
URL:https://nrrl.no/event/medlemsmote-grenlandsgruppen-57/
CATEGORIES:Grenlandsgruppen
END:VEVENT
BEGIN:VEVENT
DTSTART;TZID=Europe/Oslo:20250116T180000
DTEND;TZID=Europe/Oslo:20250116T200000
DTSTAMP:20260420T200824
CREATED:20250112T200059Z
LAST-MODIFIED:20250112T200059Z
UID:87276-1737050400-1737057600@nrrl.no
SUMMARY:Medlemsmøte Ryfylkegruppen
DESCRIPTION:
URL:https://nrrl.no/event/medlemsmote-ryfylkegruppen-30/
CATEGORIES:Ryfylkegruppen
END:VEVENT
BEGIN:VEVENT
DTSTART;TZID=Europe/Oslo:20250116T190000
DTEND;TZID=Europe/Oslo:20250116T210000
DTSTAMP:20260420T200824
CREATED:20250112T195858Z
LAST-MODIFIED:20250112T195858Z
UID:87266-1737054000-1737061200@nrrl.no
SUMMARY:Medlemsmøte Haldengruppen
DESCRIPTION:
URL:https://nrrl.no/event/medlemsmote-haldengruppen-29/
CATEGORIES:Haldengruppen
END:VEVENT
BEGIN:VEVENT
DTSTART;TZID=Europe/Oslo:20250116T190000
DTEND;TZID=Europe/Oslo:20250116T210000
DTSTAMP:20260420T200824
CREATED:20250112T195956Z
LAST-MODIFIED:20250112T195956Z
UID:87272-1737054000-1737061200@nrrl.no
SUMMARY:Medlemsmøte Hortengruppen
DESCRIPTION:
URL:https://nrrl.no/event/medlemsmote-hortengruppen-50/
CATEGORIES:Hortengruppen
END:VEVENT
BEGIN:VEVENT
DTSTART;TZID=Europe/Oslo:20250118T103000
DTEND;TZID=Europe/Oslo:20250118T130000
DTSTAMP:20260420T200824
CREATED:20250112T195828Z
LAST-MODIFIED:20250112T195828Z
UID:87264-1737196200-1737205200@nrrl.no
SUMMARY:Medlemsmøte Grenlandsgruppen
DESCRIPTION:
URL:https://nrrl.no/event/medlemsmote-grenlandsgruppen-58/
CATEGORIES:Grenlandsgruppen
END:VEVENT
BEGIN:VEVENT
DTSTART;TZID=Europe/Oslo:20250118T140000
DTEND;TZID=Europe/Oslo:20250118T170000
DTSTAMP:20260420T200824
CREATED:20250112T200228Z
LAST-MODIFIED:20250112T200228Z
UID:87283-1737208800-1737219600@nrrl.no
SUMMARY:Medlemsmøte Tromsøgruppen
DESCRIPTION:
URL:https://nrrl.no/event/medlemsmote-tromsogruppen-58/
CATEGORIES:Tromsøgruppen
END:VEVENT
BEGIN:VEVENT
DTSTART;TZID=Europe/Oslo:20250120T190000
DTEND;TZID=Europe/Oslo:20250120T210000
DTSTAMP:20260420T200824
CREATED:20250119T220955Z
LAST-MODIFIED:20250119T220955Z
UID:95843-1737399600-1737406800@nrrl.no
SUMMARY:Medlemsmøte Sandefjordgruppen
DESCRIPTION:
URL:https://nrrl.no/event/medlemsmote-sandefjordgruppen-28/
CATEGORIES:Sandefjordgruppen
END:VEVENT
BEGIN:VEVENT
DTSTART;TZID=Europe/Oslo:20250121T110000
DTEND;TZID=Europe/Oslo:20250121T130000
DTSTAMP:20260420T200824
CREATED:20250119T220842Z
LAST-MODIFIED:20250119T220842Z
UID:95836-1737457200-1737464400@nrrl.no
SUMMARY:Medlemsmøte Hortengruppen
DESCRIPTION:
URL:https://nrrl.no/event/medlemsmote-hortengruppen-53/
CATEGORIES:Hortengruppen
END:VEVENT
BEGIN:VEVENT
DTSTART;TZID=Europe/Oslo:20250121T190000
DTEND;TZID=Europe/Oslo:20250121T210000
DTSTAMP:20260420T200824
CREATED:20250119T221024Z
LAST-MODIFIED:20250119T221024Z
UID:95847-1737486000-1737493200@nrrl.no
SUMMARY:Medlemsmøte Tromsøgruppen
DESCRIPTION:
URL:https://nrrl.no/event/medlemsmote-tromsogruppen-59/
CATEGORIES:Tromsøgruppen
END:VEVENT
BEGIN:VEVENT
DTSTART;TZID=Europe/Oslo:20250121T190000
DTEND;TZID=Europe/Oslo:20250121T210000
DTSTAMP:20260420T200824
CREATED:20250119T221133Z
LAST-MODIFIED:20250119T221133Z
UID:95854-1737486000-1737493200@nrrl.no
SUMMARY:Medlemsmøte Trondheimsgruppen
DESCRIPTION:
URL:https://nrrl.no/event/medlemsmote-trondheimsgruppen-26/
CATEGORIES:Trondheimsgruppen
END:VEVENT
BEGIN:VEVENT
DTSTART;TZID=Europe/Oslo:20250122T190000
DTEND;TZID=Europe/Oslo:20250122T210000
DTSTAMP:20260420T200824
CREATED:20250119T220553Z
LAST-MODIFIED:20250119T220553Z
UID:95824-1737572400-1737579600@nrrl.no
SUMMARY:Medlemsmøte Drammensgruppen
DESCRIPTION:
URL:https://nrrl.no/event/medlemsmote-drammensgruppen-25/
CATEGORIES:Drammengruppen
END:VEVENT
BEGIN:VEVENT
DTSTART;TZID=Europe/Oslo:20250122T190000
DTEND;TZID=Europe/Oslo:20250122T210000
DTSTAMP:20260420T200824
CREATED:20250119T220618Z
LAST-MODIFIED:20250119T220618Z
UID:95826-1737572400-1737579600@nrrl.no
SUMMARY:Medlemsmøte Follogruppen
DESCRIPTION:
URL:https://nrrl.no/event/medlemsmote-follogruppen-30/
CATEGORIES:Follogruppen
END:VEVENT
BEGIN:VEVENT
DTSTART;TZID=Europe/Oslo:20250122T190000
DTEND;TZID=Europe/Oslo:20250122T210000
DTSTAMP:20260420T200824
CREATED:20250119T220644Z
LAST-MODIFIED:20250119T220644Z
UID:95828-1737572400-1737579600@nrrl.no
SUMMARY:Medlemsmøte Grenlandsgruppen
DESCRIPTION:
URL:https://nrrl.no/event/medlemsmote-grenlandsgruppen-59/
CATEGORIES:Grenlandsgruppen
END:VEVENT
BEGIN:VEVENT
DTSTART;TZID=Europe/Oslo:20250122T190000
DTEND;TZID=Europe/Oslo:20250122T210000
DTSTAMP:20260420T200824
CREATED:20250119T221204Z
LAST-MODIFIED:20250119T221204Z
UID:95856-1737572400-1737579600@nrrl.no
SUMMARY:Medlemsmøte Harstadgruppen
DESCRIPTION:
URL:https://nrrl.no/event/medlemsmote-harstadgruppen-3/
CATEGORIES:Harstadgruppen
END:VEVENT
BEGIN:VEVENT
DTSTART;TZID=Europe/Oslo:20250123T180000
DTEND;TZID=Europe/Oslo:20250123T200000
DTSTAMP:20260420T200824
CREATED:20250119T220915Z
LAST-MODIFIED:20250119T220915Z
UID:95839-1737655200-1737662400@nrrl.no
SUMMARY:Medlemsmøte Ryfylkegruppen
DESCRIPTION:
URL:https://nrrl.no/event/medlemsmote-ryfylkegruppen-31/
CATEGORIES:Ryfylkegruppen
END:VEVENT
BEGIN:VEVENT
DTSTART;TZID=Europe/Oslo:20250123T190000
DTEND;TZID=Europe/Oslo:20250123T210000
DTSTAMP:20260420T200824
CREATED:20250119T220741Z
LAST-MODIFIED:20250119T220741Z
UID:95832-1737658800-1737666000@nrrl.no
SUMMARY:Medlemsmøte Haldengruppen
DESCRIPTION:
URL:https://nrrl.no/event/medlemsmote-haldengruppen-30/
CATEGORIES:Haldengruppen
END:VEVENT
BEGIN:VEVENT
DTSTART;TZID=Europe/Oslo:20250123T190000
DTEND;TZID=Europe/Oslo:20250123T210000
DTSTAMP:20260420T200824
CREATED:20250119T220810Z
LAST-MODIFIED:20250119T220810Z
UID:95834-1737658800-1737666000@nrrl.no
SUMMARY:Medlemsmøte Hortengruppen
DESCRIPTION:
URL:https://nrrl.no/event/medlemsmote-hortengruppen-52/
CATEGORIES:Hortengruppen
END:VEVENT
BEGIN:VEVENT
DTSTART;TZID=Europe/Oslo:20250125T103000
DTEND;TZID=Europe/Oslo:20250125T130000
DTSTAMP:20260420T200824
CREATED:20250119T220712Z
LAST-MODIFIED:20250119T220712Z
UID:95830-1737801000-1737810000@nrrl.no
SUMMARY:Medlemsmøte Grenlandsgruppen
DESCRIPTION:
URL:https://nrrl.no/event/medlemsmote-grenlandsgruppen-60/
CATEGORIES:Grenlandsgruppen
END:VEVENT
BEGIN:VEVENT
DTSTART;TZID=Europe/Oslo:20250125T140000
DTEND;TZID=Europe/Oslo:20250125T170000
DTSTAMP:20260420T200824
CREATED:20250119T221052Z
LAST-MODIFIED:20250119T221052Z
UID:95850-1737813600-1737824400@nrrl.no
SUMMARY:Medlemsmøte Tromsøgruppen
DESCRIPTION:
URL:https://nrrl.no/event/medlemsmote-tromsogruppen-60/
CATEGORIES:Tromsøgruppen
END:VEVENT
BEGIN:VEVENT
DTSTART;TZID=Europe/Oslo:20250127T190000
DTEND;TZID=Europe/Oslo:20250127T210000
DTSTAMP:20260420T200824
CREATED:20250126T211500Z
LAST-MODIFIED:20250126T211500Z
UID:106866-1738004400-1738011600@nrrl.no
SUMMARY:Medlemsmøte Sandefjordgruppen
DESCRIPTION:
URL:https://nrrl.no/event/medlemsmote-sandefjordgruppen-29/
CATEGORIES:Sandefjordgruppen
END:VEVENT
BEGIN:VEVENT
DTSTART;TZID=Europe/Oslo:20250128T110000
DTEND;TZID=Europe/Oslo:20250128T130000
DTSTAMP:20260420T200824
CREATED:20250126T211356Z
LAST-MODIFIED:20250126T211356Z
UID:106861-1738062000-1738069200@nrrl.no
SUMMARY:Medlemsmøte Hortengruppen
DESCRIPTION:
URL:https://nrrl.no/event/medlemsmote-hortengruppen-55/
CATEGORIES:Hortengruppen
END:VEVENT
BEGIN:VEVENT
DTSTART;TZID=Europe/Oslo:20250128T190000
DTEND;TZID=Europe/Oslo:20250128T210000
DTSTAMP:20260420T200824
CREATED:20250126T211542Z
LAST-MODIFIED:20250126T211542Z
UID:106870-1738090800-1738098000@nrrl.no
SUMMARY:Medlemsmøte Tromsøgruppen
DESCRIPTION:
URL:https://nrrl.no/event/medlemsmote-tromsogruppen-61/
CATEGORIES:Tromsøgruppen
END:VEVENT
BEGIN:VEVENT
DTSTART;TZID=Europe/Oslo:20250128T190000
DTEND;TZID=Europe/Oslo:20250128T210000
DTSTAMP:20260420T200824
CREATED:20250126T211705Z
LAST-MODIFIED:20250126T211705Z
UID:106876-1738090800-1738098000@nrrl.no
SUMMARY:Medlemsmøte Trondheimsgruppen
DESCRIPTION:
URL:https://nrrl.no/event/medlemsmote-trondheimsgruppen-27/
CATEGORIES:Trondheimsgruppen
END:VEVENT
END:VCALENDAR