BEGIN:VCALENDAR
VERSION:2.0
PRODID:-//Norsk Radio Relæ Liga - ECPv6.15.20//NONSGML v1.0//EN
CALSCALE:GREGORIAN
METHOD:PUBLISH
X-ORIGINAL-URL:https://nrrl.no
X-WR-CALDESC:Arrangement for Norsk Radio Relæ Liga
REFRESH-INTERVAL;VALUE=DURATION:PT1H
X-Robots-Tag:noindex
X-PUBLISHED-TTL:PT1H
BEGIN:VTIMEZONE
TZID:Europe/Oslo
BEGIN:DAYLIGHT
TZOFFSETFROM:+0100
TZOFFSETTO:+0200
TZNAME:CEST
DTSTART:20240331T010000
END:DAYLIGHT
BEGIN:STANDARD
TZOFFSETFROM:+0200
TZOFFSETTO:+0100
TZNAME:CET
DTSTART:20241027T010000
END:STANDARD
BEGIN:DAYLIGHT
TZOFFSETFROM:+0100
TZOFFSETTO:+0200
TZNAME:CEST
DTSTART:20250330T010000
END:DAYLIGHT
BEGIN:STANDARD
TZOFFSETFROM:+0200
TZOFFSETTO:+0100
TZNAME:CET
DTSTART:20251026T010000
END:STANDARD
BEGIN:DAYLIGHT
TZOFFSETFROM:+0100
TZOFFSETTO:+0200
TZNAME:CEST
DTSTART:20260329T010000
END:DAYLIGHT
BEGIN:STANDARD
TZOFFSETFROM:+0200
TZOFFSETTO:+0100
TZNAME:CET
DTSTART:20261025T010000
END:STANDARD
END:VTIMEZONE
BEGIN:VEVENT
DTSTART;TZID=Europe/Oslo:20250602T180000
DTEND;TZID=Europe/Oslo:20250602T200000
DTSTAMP:20260420T120307
CREATED:20250601T194351Z
LAST-MODIFIED:20250601T194351Z
UID:119162-1748887200-1748894400@nrrl.no
SUMMARY:Medlemsmøte Bergensgruppen
DESCRIPTION:
URL:https://nrrl.no/event/medlemsmote-bergensgruppen-5/
CATEGORIES:Bergensgruppen
END:VEVENT
BEGIN:VEVENT
DTSTART;TZID=Europe/Oslo:20250602T190000
DTEND;TZID=Europe/Oslo:20250602T210000
DTSTAMP:20260420T120307
CREATED:20250601T193426Z
LAST-MODIFIED:20250601T193426Z
UID:119126-1748890800-1748898000@nrrl.no
SUMMARY:Medlemsmøte Sandefjordgruppen
DESCRIPTION:
URL:https://nrrl.no/event/medlemsmote-sandefjordgruppen-44/
CATEGORIES:Sandefjordgruppen
END:VEVENT
BEGIN:VEVENT
DTSTART;TZID=Europe/Oslo:20250603T110000
DTEND;TZID=Europe/Oslo:20250603T130000
DTSTAMP:20260420T120307
CREATED:20250601T193307Z
LAST-MODIFIED:20250601T193307Z
UID:119122-1748948400-1748955600@nrrl.no
SUMMARY:Medlemsmøte Hortengruppen
DESCRIPTION:
URL:https://nrrl.no/event/medlemsmote-hortengruppen-87/
CATEGORIES:Hortengruppen
END:VEVENT
BEGIN:VEVENT
DTSTART;TZID=Europe/Oslo:20250603T180000
DTEND;TZID=Europe/Oslo:20250603T200000
DTSTAMP:20260420T120307
CREATED:20250601T193654Z
LAST-MODIFIED:20250601T193654Z
UID:119136-1748973600-1748980800@nrrl.no
SUMMARY:Medlemsmøte Kristiansandgruppen
DESCRIPTION:
URL:https://nrrl.no/event/medlemsmote-kristiansandgruppen-17/
CATEGORIES:Kristiansandgruppen
END:VEVENT
BEGIN:VEVENT
DTSTART;TZID=Europe/Oslo:20250603T190000
DTEND;TZID=Europe/Oslo:20250603T210000
DTSTAMP:20260420T120307
CREATED:20250601T193458Z
LAST-MODIFIED:20250601T193458Z
UID:119128-1748977200-1748984400@nrrl.no
SUMMARY:Medlemsmøte Tromsøgruppen
DESCRIPTION:
URL:https://nrrl.no/event/medlemsmote-tromsogruppen-93/
CATEGORIES:Tromsøgruppen
END:VEVENT
BEGIN:VEVENT
DTSTART;TZID=Europe/Oslo:20250603T190000
DTEND;TZID=Europe/Oslo:20250603T210000
DTSTAMP:20260420T120307
CREATED:20250601T193547Z
LAST-MODIFIED:20250601T193547Z
UID:119132-1748977200-1748984400@nrrl.no
SUMMARY:Medlemsmøte Trondheimsgruppen
DESCRIPTION:
URL:https://nrrl.no/event/medlemsmote-trondheimsgruppen-42/
CATEGORIES:Trondheimsgruppen
END:VEVENT
BEGIN:VEVENT
DTSTART;TZID=Europe/Oslo:20250604T180000
DTEND;TZID=Europe/Oslo:20250604T200000
DTSTAMP:20260420T120307
CREATED:20250601T193620Z
LAST-MODIFIED:20250601T193620Z
UID:119134-1749060000-1749067200@nrrl.no
SUMMARY:Medlemsmøte Harstadgruppen
DESCRIPTION:
URL:https://nrrl.no/event/medlemsmote-harstadgruppen-20/
CATEGORIES:Harstadgruppen
END:VEVENT
BEGIN:VEVENT
DTSTART;TZID=Europe/Oslo:20250604T180000
DTEND;TZID=Europe/Oslo:20250604T200000
DTSTAMP:20260420T120307
CREATED:20250601T194106Z
LAST-MODIFIED:20250601T194106Z
UID:119152-1749060000-1749067200@nrrl.no
SUMMARY:Medlemsmøte Modumsgruppen
DESCRIPTION:
URL:https://nrrl.no/event/medlemsmote-modumsgruppen-5/
CATEGORIES:Modumgruppen
END:VEVENT
BEGIN:VEVENT
DTSTART;TZID=Europe/Oslo:20250604T180000
DTEND;TZID=Europe/Oslo:20250604T200000
DTSTAMP:20260420T120307
CREATED:20250601T194138Z
LAST-MODIFIED:20250601T194138Z
UID:119154-1749060000-1749067200@nrrl.no
SUMMARY:Medlemsmøte Sarpsborggruppen
DESCRIPTION:
URL:https://nrrl.no/event/medlemsmote-sarpsborggruppen-5/
CATEGORIES:Saprsborggruppen
END:VEVENT
BEGIN:VEVENT
DTSTART;TZID=Europe/Oslo:20250604T190000
DTEND;TZID=Europe/Oslo:20250604T210000
DTSTAMP:20260420T120307
CREATED:20250601T193016Z
LAST-MODIFIED:20250601T193016Z
UID:119110-1749063600-1749070800@nrrl.no
SUMMARY:Medlemsmøte Drammensgruppen
DESCRIPTION:
URL:https://nrrl.no/event/medlemsmote-drammensgruppen-42/
CATEGORIES:Drammengruppen
END:VEVENT
BEGIN:VEVENT
DTSTART;TZID=Europe/Oslo:20250604T190000
DTEND;TZID=Europe/Oslo:20250604T210000
DTSTAMP:20260420T120307
CREATED:20250601T193042Z
LAST-MODIFIED:20250601T193042Z
UID:119112-1749063600-1749070800@nrrl.no
SUMMARY:Medlemsmøte Follogruppen
DESCRIPTION:
URL:https://nrrl.no/event/medlemsmote-follogruppen-47/
CATEGORIES:Follogruppen
END:VEVENT
BEGIN:VEVENT
DTSTART;TZID=Europe/Oslo:20250604T190000
DTEND;TZID=Europe/Oslo:20250604T210000
DTSTAMP:20260420T120307
CREATED:20250601T194523Z
LAST-MODIFIED:20250601T194523Z
UID:119168-1749063600-1749070800@nrrl.no
SUMMARY:Medlemsmøte Kongsvingergruppen
DESCRIPTION:
URL:https://nrrl.no/event/medlemsmote-kongsvingergruppen-3/
CATEGORIES:Kongsvingergruppen
END:VEVENT
BEGIN:VEVENT
DTSTART;TZID=Europe/Oslo:20250604T190000
DTEND;TZID=Europe/Oslo:20250604T220000
DTSTAMP:20260420T120307
CREATED:20250601T193109Z
LAST-MODIFIED:20250601T193109Z
UID:119114-1749063600-1749074400@nrrl.no
SUMMARY:Medlemsmøte Grenlandsgruppen
DESCRIPTION:
URL:https://nrrl.no/event/medlemsmote-grenlandsgruppen-93/
CATEGORIES:Grenlandsgruppen
END:VEVENT
BEGIN:VEVENT
DTSTART;TZID=Europe/Oslo:20250605T180000
DTEND;TZID=Europe/Oslo:20250605T200000
DTSTAMP:20260420T120307
CREATED:20250601T193344Z
LAST-MODIFIED:20250601T193344Z
UID:119124-1749146400-1749153600@nrrl.no
SUMMARY:Medlemsmøte Ryfylkegruppen
DESCRIPTION:
URL:https://nrrl.no/event/medlemsmote-ryfylkegruppen-47/
CATEGORIES:Ryfylkegruppen
END:VEVENT
BEGIN:VEVENT
DTSTART;TZID=Europe/Oslo:20250605T190000
DTEND;TZID=Europe/Oslo:20250605T210000
DTSTAMP:20260420T120307
CREATED:20250601T193210Z
LAST-MODIFIED:20250601T193210Z
UID:119118-1749150000-1749157200@nrrl.no
SUMMARY:Medlemsmøte Haldengruppen
DESCRIPTION:
URL:https://nrrl.no/event/medlemsmote-haldengruppen-47/
CATEGORIES:Haldengruppen
END:VEVENT
BEGIN:VEVENT
DTSTART;TZID=Europe/Oslo:20250605T190000
DTEND;TZID=Europe/Oslo:20250605T210000
DTSTAMP:20260420T120307
CREATED:20250601T193242Z
LAST-MODIFIED:20250601T193242Z
UID:119120-1749150000-1749157200@nrrl.no
SUMMARY:Medlemsmøte Hortengruppen
DESCRIPTION:
URL:https://nrrl.no/event/medlemsmote-hortengruppen-86/
CATEGORIES:Hortengruppen
END:VEVENT
BEGIN:VEVENT
DTSTART;TZID=Europe/Oslo:20250605T190000
DTEND;TZID=Europe/Oslo:20250605T210000
DTSTAMP:20260420T120307
CREATED:20250601T193751Z
LAST-MODIFIED:20250601T193751Z
UID:119140-1749150000-1749157200@nrrl.no
SUMMARY:Medlemsmøte Egersundgruppen
DESCRIPTION:
URL:https://nrrl.no/event/medlemsmote-egersundgruppen-21/
CATEGORIES:Egersundgruppen
END:VEVENT
BEGIN:VEVENT
DTSTART;TZID=Europe/Oslo:20250605T190000
DTEND;TZID=Europe/Oslo:20250605T210000
DTSTAMP:20260420T120307
CREATED:20250601T194212Z
LAST-MODIFIED:20250601T194212Z
UID:119156-1749150000-1749157200@nrrl.no
SUMMARY:Medlemsmøte Gudbrandsdalsgruppen
DESCRIPTION:
URL:https://nrrl.no/event/medlemsmote-gudbrandsdalsgruppen-5/
CATEGORIES:Gudbrandsdalsgruppen
END:VEVENT
BEGIN:VEVENT
DTSTART;TZID=Europe/Oslo:20250607T103000
DTEND;TZID=Europe/Oslo:20250607T130000
DTSTAMP:20260420T120307
CREATED:20250601T193140Z
LAST-MODIFIED:20250601T193140Z
UID:119116-1749292200-1749301200@nrrl.no
SUMMARY:Medlemsmøte Grenlandsgruppen
DESCRIPTION:
URL:https://nrrl.no/event/medlemsmote-grenlandsgruppen-94/
CATEGORIES:Grenlandsgruppen
END:VEVENT
BEGIN:VEVENT
DTSTART;TZID=Europe/Oslo:20250607T110000
DTEND;TZID=Europe/Oslo:20250607T130000
DTSTAMP:20260420T120307
CREATED:20250601T193723Z
LAST-MODIFIED:20250601T193723Z
UID:119138-1749294000-1749301200@nrrl.no
SUMMARY:Medlemsmøte Kristiansandgruppen
DESCRIPTION:
URL:https://nrrl.no/event/medlemsmote-kristiansandgruppen-18/
CATEGORIES:Kristiansandgruppen
END:VEVENT
BEGIN:VEVENT
DTSTART;TZID=Europe/Oslo:20250607T140000
DTEND;TZID=Europe/Oslo:20250607T160000
DTSTAMP:20260420T120307
CREATED:20250601T193521Z
LAST-MODIFIED:20250601T193521Z
UID:119130-1749304800-1749312000@nrrl.no
SUMMARY:Medlemsmøte Tromsøgruppen
DESCRIPTION:
URL:https://nrrl.no/event/medlemsmote-tromsogruppen-94/
CATEGORIES:Tromsøgruppen
END:VEVENT
BEGIN:VEVENT
DTSTART;TZID=Europe/Oslo:20250609T190000
DTEND;TZID=Europe/Oslo:20250609T210000
DTSTAMP:20260420T120307
CREATED:20250608T192214Z
LAST-MODIFIED:20250608T192214Z
UID:119239-1749495600-1749502800@nrrl.no
SUMMARY:Medlemsmøte Sandefjordgruppen
DESCRIPTION:
URL:https://nrrl.no/event/medlemsmote-sandefjordgruppen-45/
CATEGORIES:Sandefjordgruppen
END:VEVENT
BEGIN:VEVENT
DTSTART;TZID=Europe/Oslo:20250610T110000
DTEND;TZID=Europe/Oslo:20250610T130000
DTSTAMP:20260420T120307
CREATED:20250608T192101Z
LAST-MODIFIED:20250608T192101Z
UID:119235-1749553200-1749560400@nrrl.no
SUMMARY:Medlemsmøte Hortengruppen
DESCRIPTION:
URL:https://nrrl.no/event/medlemsmote-hortengruppen-89/
CATEGORIES:Hortengruppen
END:VEVENT
BEGIN:VEVENT
DTSTART;TZID=Europe/Oslo:20250610T180000
DTEND;TZID=Europe/Oslo:20250610T200000
DTSTAMP:20260420T120307
CREATED:20250608T192500Z
LAST-MODIFIED:20250608T192500Z
UID:119249-1749578400-1749585600@nrrl.no
SUMMARY:Medlemsmøte Kristiansandgruppen
DESCRIPTION:
URL:https://nrrl.no/event/medlemsmote-kristiansandgruppen-19/
CATEGORIES:Kristiansandgruppen
END:VEVENT
BEGIN:VEVENT
DTSTART;TZID=Europe/Oslo:20250610T190000
DTEND;TZID=Europe/Oslo:20250610T210000
DTSTAMP:20260420T120307
CREATED:20250601T193923Z
LAST-MODIFIED:20250601T193923Z
UID:119146-1749582000-1749589200@nrrl.no
SUMMARY:Medlemsmøte Larviksgruppen
DESCRIPTION:
URL:https://nrrl.no/event/medlemsmote-larviksgruppen-3/
CATEGORIES:Larvikgruppen
END:VEVENT
BEGIN:VEVENT
DTSTART;TZID=Europe/Oslo:20250610T190000
DTEND;TZID=Europe/Oslo:20250610T210000
DTSTAMP:20260420T120307
CREATED:20250608T192241Z
LAST-MODIFIED:20250608T192241Z
UID:119241-1749582000-1749589200@nrrl.no
SUMMARY:Medlemsmøte Tromsøgruppen
DESCRIPTION:
URL:https://nrrl.no/event/medlemsmote-tromsogruppen-95/
CATEGORIES:Tromsøgruppen
END:VEVENT
BEGIN:VEVENT
DTSTART;TZID=Europe/Oslo:20250610T190000
DTEND;TZID=Europe/Oslo:20250610T210000
DTSTAMP:20260420T120307
CREATED:20250608T192343Z
LAST-MODIFIED:20250608T192343Z
UID:119245-1749582000-1749589200@nrrl.no
SUMMARY:Medlemsmøte Trondheimsgruppen
DESCRIPTION:
URL:https://nrrl.no/event/medlemsmote-trondheimsgruppen-43/
CATEGORIES:Trondheimsgruppen
END:VEVENT
BEGIN:VEVENT
DTSTART;TZID=Europe/Oslo:20250611T180000
DTEND;TZID=Europe/Oslo:20250611T200000
DTSTAMP:20260420T120307
CREATED:20250608T192413Z
LAST-MODIFIED:20250608T192413Z
UID:119247-1749664800-1749672000@nrrl.no
SUMMARY:Medlemsmøte Harstadgruppen
DESCRIPTION:
URL:https://nrrl.no/event/medlemsmote-harstadgruppen-21/
CATEGORIES:Harstadgruppen
END:VEVENT
BEGIN:VEVENT
DTSTART;TZID=Europe/Oslo:20250611T190000
DTEND;TZID=Europe/Oslo:20250611T210000
DTSTAMP:20260420T120307
CREATED:20250601T193846Z
LAST-MODIFIED:20250601T193846Z
UID:119144-1749668400-1749675600@nrrl.no
SUMMARY:Medlemsmøte Kongsberggruppen
DESCRIPTION:
URL:https://nrrl.no/event/medlemsmote-kongsberggruppen-11/
CATEGORIES:Kongsberggruppen
END:VEVENT
BEGIN:VEVENT
DTSTART;TZID=Europe/Oslo:20250611T190000
DTEND;TZID=Europe/Oslo:20250611T210000
DTSTAMP:20260420T120307
CREATED:20250601T194249Z
LAST-MODIFIED:20250601T194249Z
UID:119158-1749668400-1749675600@nrrl.no
SUMMARY:Medlemsmøte Asker og Bærumsgruppen
DESCRIPTION:
URL:https://nrrl.no/event/medlemsmote-asker-og-baerumsgruppen-5/
CATEGORIES:Asker og Bærumsgruppen
END:VEVENT
END:VCALENDAR