BEGIN:VCALENDAR
VERSION:2.0
PRODID:-//Norsk Radio Relæ Liga - ECPv6.15.20//NONSGML v1.0//EN
CALSCALE:GREGORIAN
METHOD:PUBLISH
X-WR-CALNAME:Norsk Radio Relæ Liga
X-ORIGINAL-URL:https://nrrl.no
X-WR-CALDESC:Arrangement for Norsk Radio Relæ Liga
REFRESH-INTERVAL;VALUE=DURATION:PT1H
X-Robots-Tag:noindex
X-PUBLISHED-TTL:PT1H
BEGIN:VTIMEZONE
TZID:Europe/Oslo
BEGIN:DAYLIGHT
TZOFFSETFROM:+0100
TZOFFSETTO:+0200
TZNAME:CEST
DTSTART:20240331T010000
END:DAYLIGHT
BEGIN:STANDARD
TZOFFSETFROM:+0200
TZOFFSETTO:+0100
TZNAME:CET
DTSTART:20241027T010000
END:STANDARD
BEGIN:DAYLIGHT
TZOFFSETFROM:+0100
TZOFFSETTO:+0200
TZNAME:CEST
DTSTART:20250330T010000
END:DAYLIGHT
BEGIN:STANDARD
TZOFFSETFROM:+0200
TZOFFSETTO:+0100
TZNAME:CET
DTSTART:20251026T010000
END:STANDARD
BEGIN:DAYLIGHT
TZOFFSETFROM:+0100
TZOFFSETTO:+0200
TZNAME:CEST
DTSTART:20260329T010000
END:DAYLIGHT
BEGIN:STANDARD
TZOFFSETFROM:+0200
TZOFFSETTO:+0100
TZNAME:CET
DTSTART:20261025T010000
END:STANDARD
END:VTIMEZONE
BEGIN:VEVENT
DTSTART;VALUE=DATE:20250828
DTEND;VALUE=DATE:20250904
DTSTAMP:20260420T085119
CREATED:20250828T144326Z
LAST-MODIFIED:20250828T145325Z
UID:122327-1756339200-1756943999@nrrl.no
SUMMARY:LM100IARU: LA3PNA Thomas
DESCRIPTION:
URL:https://nrrl.no/event/lm100iaru-la3pna-thomas-7/
CATEGORIES:LM100IARU
END:VEVENT
BEGIN:VEVENT
DTSTART;TZID=Europe/Oslo:20250828T183000
DTEND;TZID=Europe/Oslo:20250828T213000
DTSTAMP:20260420T085119
CREATED:20250429T164527Z
LAST-MODIFIED:20250429T164527Z
UID:118623-1756405800-1756416600@nrrl.no
SUMMARY:Oslogruppen: Lisenskurs
DESCRIPTION:Kurset går over 14 kurskvelder med tentamen 27. november 2025. Du kan delta digitalt eller fysisk. \nEksamen blir i begynnelsen av desember. \nFlere opplysninger via skjema som du finner her: https://la4o.no/kurs
URL:https://nrrl.no/event/oslogruppen-lisenskurs/
LOCATION:Nedre Rommen 5 E\, 0915 Oslo
CATEGORIES:Kurs,Oslogruppen
END:VEVENT
END:VCALENDAR