BEGIN:VCALENDAR
VERSION:2.0
PRODID:-//Norsk Radio Relæ Liga - ECPv6.15.20//NONSGML v1.0//EN
CALSCALE:GREGORIAN
METHOD:PUBLISH
X-WR-CALNAME:Norsk Radio Relæ Liga
X-ORIGINAL-URL:https://nrrl.no
X-WR-CALDESC:Arrangement for Norsk Radio Relæ Liga
REFRESH-INTERVAL;VALUE=DURATION:PT1H
X-Robots-Tag:noindex
X-PUBLISHED-TTL:PT1H
BEGIN:VTIMEZONE
TZID:Europe/Oslo
BEGIN:DAYLIGHT
TZOFFSETFROM:+0100
TZOFFSETTO:+0200
TZNAME:CEST
DTSTART:20240331T010000
END:DAYLIGHT
BEGIN:STANDARD
TZOFFSETFROM:+0200
TZOFFSETTO:+0100
TZNAME:CET
DTSTART:20241027T010000
END:STANDARD
BEGIN:DAYLIGHT
TZOFFSETFROM:+0100
TZOFFSETTO:+0200
TZNAME:CEST
DTSTART:20250330T010000
END:DAYLIGHT
BEGIN:STANDARD
TZOFFSETFROM:+0200
TZOFFSETTO:+0100
TZNAME:CET
DTSTART:20251026T010000
END:STANDARD
BEGIN:DAYLIGHT
TZOFFSETFROM:+0100
TZOFFSETTO:+0200
TZNAME:CEST
DTSTART:20260329T010000
END:DAYLIGHT
BEGIN:STANDARD
TZOFFSETFROM:+0200
TZOFFSETTO:+0100
TZNAME:CET
DTSTART:20261025T010000
END:STANDARD
END:VTIMEZONE
BEGIN:VEVENT
DTSTART;VALUE=DATE:20250828
DTEND;VALUE=DATE:20250904
DTSTAMP:20260420T071235
CREATED:20250828T144326Z
LAST-MODIFIED:20250828T145325Z
UID:122327-1756339200-1756943999@nrrl.no
SUMMARY:LM100IARU: LA3PNA Thomas
DESCRIPTION:
URL:https://nrrl.no/event/lm100iaru-la3pna-thomas-7/
CATEGORIES:LM100IARU
END:VEVENT
BEGIN:VEVENT
DTSTART;VALUE=DATE:20250903
DTEND;VALUE=DATE:20250908
DTSTAMP:20260420T071235
CREATED:20250903T120955Z
LAST-MODIFIED:20250903T120955Z
UID:122424-1756857600-1757289599@nrrl.no
SUMMARY:LB100IARU: LA3M
DESCRIPTION:
URL:https://nrrl.no/event/lb100iaru-la3m/
CATEGORIES:LB100IARU
END:VEVENT
BEGIN:VEVENT
DTSTART;TZID=Europe/Oslo:20250904T183000
DTEND;TZID=Europe/Oslo:20250904T213000
DTSTAMP:20260420T071235
CREATED:20250429T164610Z
LAST-MODIFIED:20250429T165350Z
UID:118627-1757010600-1757021400@nrrl.no
SUMMARY:Oslogruppen: Lisenskurs
DESCRIPTION:Kurset går over 14 kurskvelder med tentamen 27. november 2025. Du kan delta digitalt eller fysisk. \nEksamen blir i begynnelsen av desember. \nFlere opplysninger via skjema som du finner her: https://la4o.no/kurs
URL:https://nrrl.no/event/oslogruppen-lisenskurs-2/
LOCATION:Nedre Rommen 5 E\, 0915 Oslo
CATEGORIES:Kurs,Oslogruppen
END:VEVENT
BEGIN:VEVENT
DTSTART;VALUE=DATE:20250910
DTEND;VALUE=DATE:20250911
DTSTAMP:20260420T071235
CREATED:20250910T160230Z
LAST-MODIFIED:20250910T160230Z
UID:122522-1757462400-1757548799@nrrl.no
SUMMARY:LM100IARU: KONTORET
DESCRIPTION:
URL:https://nrrl.no/event/lm100iaru-kontoret/
CATEGORIES:LM100IARU
END:VEVENT
BEGIN:VEVENT
DTSTART;VALUE=DATE:20250911
DTEND;VALUE=DATE:20250912
DTSTAMP:20260420T071235
CREATED:20250905T172027Z
LAST-MODIFIED:20250905T172027Z
UID:122471-1757548800-1757635199@nrrl.no
SUMMARY:LM100IARU: LA9RY
DESCRIPTION:
URL:https://nrrl.no/event/lm100iaru-la9ry/
CATEGORIES:LM100IARU
END:VEVENT
BEGIN:VEVENT
DTSTART;TZID=Europe/Oslo:20250911T183000
DTEND;TZID=Europe/Oslo:20250911T213000
DTSTAMP:20260420T071235
CREATED:20250429T165407Z
LAST-MODIFIED:20250429T165407Z
UID:118629-1757615400-1757626200@nrrl.no
SUMMARY:Oslogruppen: Lisenskurs
DESCRIPTION:Kurset går over 14 kurskvelder med tentamen 27. november 2025. Du kan delta digitalt eller fysisk. \nEksamen blir i begynnelsen av desember. \nFlere opplysninger via skjema som du finner her: https://la4o.no/kurs
URL:https://nrrl.no/event/oslogruppen-lisenskurs-3/
LOCATION:Nedre Rommen 5 E\, 0915 Oslo
CATEGORIES:Kurs,Oslogruppen
END:VEVENT
BEGIN:VEVENT
DTSTART;VALUE=DATE:20250915
DTEND;VALUE=DATE:20250922
DTSTAMP:20260420T071235
CREATED:20250905T171910Z
LAST-MODIFIED:20250905T172125Z
UID:122469-1757894400-1758499199@nrrl.no
SUMMARY:LA100IARU: LA4C
DESCRIPTION:
URL:https://nrrl.no/event/la100iaru-la4c/
CATEGORIES:LA100IARU
END:VEVENT
BEGIN:VEVENT
DTSTART;TZID=Europe/Oslo:20250918T183000
DTEND;TZID=Europe/Oslo:20250918T213000
DTSTAMP:20260420T071235
CREATED:20250429T165425Z
LAST-MODIFIED:20250429T165425Z
UID:118631-1758220200-1758231000@nrrl.no
SUMMARY:Oslogruppen: Lisenskurs
DESCRIPTION:Kurset går over 14 kurskvelder med tentamen 27. november 2025. Du kan delta digitalt eller fysisk. \nEksamen blir i begynnelsen av desember. \nFlere opplysninger via skjema som du finner her: https://la4o.no/kurs
URL:https://nrrl.no/event/oslogruppen-lisenskurs-4/
LOCATION:Nedre Rommen 5 E\, 0915 Oslo
CATEGORIES:Kurs,Oslogruppen
END:VEVENT
BEGIN:VEVENT
DTSTART;VALUE=DATE:20250922
DTEND;VALUE=DATE:20250923
DTSTAMP:20260420T071235
CREATED:20250922T075551Z
LAST-MODIFIED:20250922T075551Z
UID:122661-1758499200-1758585599@nrrl.no
SUMMARY:LM100IARU: KONTORET
DESCRIPTION:
URL:https://nrrl.no/event/lm100iaru-kontoret-2/
CATEGORIES:LM100IARU
END:VEVENT
BEGIN:VEVENT
DTSTART;VALUE=DATE:20250925
DTEND;VALUE=DATE:20250926
DTSTAMP:20260420T071235
CREATED:20250925T071414Z
LAST-MODIFIED:20250925T071414Z
UID:122714-1758758400-1758844799@nrrl.no
SUMMARY:LM100IARU: KONTORET
DESCRIPTION:
URL:https://nrrl.no/event/lm100iaru-kontoret-3/
CATEGORIES:LM100IARU
END:VEVENT
BEGIN:VEVENT
DTSTART;TZID=Europe/Oslo:20250925T183000
DTEND;TZID=Europe/Oslo:20250925T213000
DTSTAMP:20260420T071235
CREATED:20250429T165442Z
LAST-MODIFIED:20250429T165442Z
UID:118633-1758825000-1758835800@nrrl.no
SUMMARY:Oslogruppen: Lisenskurs
DESCRIPTION:Kurset går over 14 kurskvelder med tentamen 27. november 2025. Du kan delta digitalt eller fysisk. \nEksamen blir i begynnelsen av desember. \nFlere opplysninger via skjema som du finner her: https://la4o.no/kurs
URL:https://nrrl.no/event/oslogruppen-lisenskurs-5/
LOCATION:Nedre Rommen 5 E\, 0915 Oslo
CATEGORIES:Kurs,Oslogruppen
END:VEVENT
BEGIN:VEVENT
DTSTART;TZID=Europe/Oslo:20250929T190000
DTEND;TZID=Europe/Oslo:20250929T210000
DTSTAMP:20260420T071235
CREATED:20250928T154134Z
LAST-MODIFIED:20250928T154134Z
UID:122758-1759172400-1759179600@nrrl.no
SUMMARY:Medlemsmøte Sandefjordgruppen
DESCRIPTION:
URL:https://nrrl.no/event/medlemsmote-sandefjordgruppen-46/
CATEGORIES:Sandefjordgruppen
END:VEVENT
BEGIN:VEVENT
DTSTART;TZID=Europe/Oslo:20250930T110000
DTEND;TZID=Europe/Oslo:20250930T130000
DTSTAMP:20260420T071235
CREATED:20250928T154008Z
LAST-MODIFIED:20250928T154008Z
UID:122754-1759230000-1759237200@nrrl.no
SUMMARY:Medlemsmøte Hortengruppen
DESCRIPTION:
URL:https://nrrl.no/event/medlemsmote-hortengruppen-91/
CATEGORIES:Hortengruppen
END:VEVENT
BEGIN:VEVENT
DTSTART;TZID=Europe/Oslo:20250930T180000
DTEND;TZID=Europe/Oslo:20250930T200000
DTSTAMP:20260420T071235
CREATED:20250928T154445Z
LAST-MODIFIED:20250928T154445Z
UID:122768-1759255200-1759262400@nrrl.no
SUMMARY:Medlemsmøte Kristiansandgruppen
DESCRIPTION:
URL:https://nrrl.no/event/medlemsmote-kristiansandgruppen-21/
CATEGORIES:Kristiansandgruppen
END:VEVENT
BEGIN:VEVENT
DTSTART;TZID=Europe/Oslo:20250930T190000
DTEND;TZID=Europe/Oslo:20250930T210000
DTSTAMP:20260420T071235
CREATED:20250928T154216Z
LAST-MODIFIED:20250928T154216Z
UID:122760-1759258800-1759266000@nrrl.no
SUMMARY:Medlemsmøte Tromsøgruppen
DESCRIPTION:
URL:https://nrrl.no/event/medlemsmote-tromsogruppen-97/
CATEGORIES:Tromsøgruppen
END:VEVENT
BEGIN:VEVENT
DTSTART;TZID=Europe/Oslo:20250930T190000
DTEND;TZID=Europe/Oslo:20250930T210000
DTSTAMP:20260420T071235
CREATED:20250928T154319Z
LAST-MODIFIED:20250928T154319Z
UID:122764-1759258800-1759266000@nrrl.no
SUMMARY:Medlemsmøte Trondheimsgruppen
DESCRIPTION:
URL:https://nrrl.no/event/medlemsmote-trondheimsgruppen-44/
CATEGORIES:Trondheimsgruppen
END:VEVENT
END:VCALENDAR