BEGIN:VCALENDAR
VERSION:2.0
PRODID:-//Norsk Radio Relæ Liga - ECPv6.15.20//NONSGML v1.0//EN
CALSCALE:GREGORIAN
METHOD:PUBLISH
X-ORIGINAL-URL:https://nrrl.no
X-WR-CALDESC:Arrangement for Norsk Radio Relæ Liga
REFRESH-INTERVAL;VALUE=DURATION:PT1H
X-Robots-Tag:noindex
X-PUBLISHED-TTL:PT1H
BEGIN:VTIMEZONE
TZID:Europe/Oslo
BEGIN:DAYLIGHT
TZOFFSETFROM:+0100
TZOFFSETTO:+0200
TZNAME:CEST
DTSTART:20240331T010000
END:DAYLIGHT
BEGIN:STANDARD
TZOFFSETFROM:+0200
TZOFFSETTO:+0100
TZNAME:CET
DTSTART:20241027T010000
END:STANDARD
BEGIN:DAYLIGHT
TZOFFSETFROM:+0100
TZOFFSETTO:+0200
TZNAME:CEST
DTSTART:20250330T010000
END:DAYLIGHT
BEGIN:STANDARD
TZOFFSETFROM:+0200
TZOFFSETTO:+0100
TZNAME:CET
DTSTART:20251026T010000
END:STANDARD
BEGIN:DAYLIGHT
TZOFFSETFROM:+0100
TZOFFSETTO:+0200
TZNAME:CEST
DTSTART:20260329T010000
END:DAYLIGHT
BEGIN:STANDARD
TZOFFSETFROM:+0200
TZOFFSETTO:+0100
TZNAME:CET
DTSTART:20261025T010000
END:STANDARD
END:VTIMEZONE
BEGIN:VEVENT
DTSTART;VALUE=DATE:20251001
DTEND;VALUE=DATE:20251002
DTSTAMP:20260420T071531
CREATED:20251001T070547Z
LAST-MODIFIED:20251001T070547Z
UID:122805-1759276800-1759363199@nrrl.no
SUMMARY:LM100IARU: KONTORET
DESCRIPTION:
URL:https://nrrl.no/event/lm100iaru-kontoret-4/
CATEGORIES:LM100IARU
END:VEVENT
BEGIN:VEVENT
DTSTART;TZID=Europe/Oslo:20251001T180000
DTEND;TZID=Europe/Oslo:20251001T200000
DTSTAMP:20260420T071531
CREATED:20250928T154351Z
LAST-MODIFIED:20250928T154351Z
UID:122766-1759341600-1759348800@nrrl.no
SUMMARY:Medlemsmøte Harstadgruppen
DESCRIPTION:
URL:https://nrrl.no/event/medlemsmote-harstadgruppen-22/
CATEGORIES:Harstadgruppen
END:VEVENT
BEGIN:VEVENT
DTSTART;TZID=Europe/Oslo:20251001T180000
DTEND;TZID=Europe/Oslo:20251001T200000
DTSTAMP:20260420T071531
CREATED:20250928T154845Z
LAST-MODIFIED:20250928T154845Z
UID:122780-1759341600-1759348800@nrrl.no
SUMMARY:Medlemsmøte Sarpsborggruppen
DESCRIPTION:
URL:https://nrrl.no/event/medlemsmote-sarpsborggruppen-6/
CATEGORIES:Saprsborggruppen
END:VEVENT
BEGIN:VEVENT
DTSTART;TZID=Europe/Oslo:20251001T190000
DTEND;TZID=Europe/Oslo:20251001T210000
DTSTAMP:20260420T071531
CREATED:20250928T153730Z
LAST-MODIFIED:20250928T153730Z
UID:122744-1759345200-1759352400@nrrl.no
SUMMARY:Medlemsmøte Drammensgruppen
DESCRIPTION:
URL:https://nrrl.no/event/medlemsmote-drammensgruppen-44/
CATEGORIES:Drammengruppen
END:VEVENT
BEGIN:VEVENT
DTSTART;TZID=Europe/Oslo:20251001T190000
DTEND;TZID=Europe/Oslo:20251001T210000
DTSTAMP:20260420T071531
CREATED:20250928T153759Z
LAST-MODIFIED:20250928T153759Z
UID:122746-1759345200-1759352400@nrrl.no
SUMMARY:Medlemsmøte Follogruppen
DESCRIPTION:
URL:https://nrrl.no/event/medlemsmote-follogruppen-49/
CATEGORIES:Follogruppen
END:VEVENT
BEGIN:VEVENT
DTSTART;TZID=Europe/Oslo:20251001T190000
DTEND;TZID=Europe/Oslo:20251001T210000
DTSTAMP:20260420T071531
CREATED:20250928T153830Z
LAST-MODIFIED:20250928T153830Z
UID:122748-1759345200-1759352400@nrrl.no
SUMMARY:Medlemsmøte Grenlandsgruppen
DESCRIPTION:
URL:https://nrrl.no/event/medlemsmote-grenlandsgruppen-97/
CATEGORIES:Grenlandsgruppen
END:VEVENT
BEGIN:VEVENT
DTSTART;VALUE=DATE:20251002
DTEND;VALUE=DATE:20251003
DTSTAMP:20260420T071531
CREATED:20251002T122100Z
LAST-MODIFIED:20251002T122100Z
UID:122825-1759363200-1759449599@nrrl.no
SUMMARY:LM100IARU: KONTORET
DESCRIPTION:
URL:https://nrrl.no/event/lm100iaru-kontoret-5/
CATEGORIES:LM100IARU
END:VEVENT
BEGIN:VEVENT
DTSTART;TZID=Europe/Oslo:20251002T180000
DTEND;TZID=Europe/Oslo:20251002T200000
DTSTAMP:20260420T071531
CREATED:20250928T154053Z
LAST-MODIFIED:20250928T154053Z
UID:122756-1759428000-1759435200@nrrl.no
SUMMARY:Medlemsmøte Ryfylkegruppen
DESCRIPTION:
URL:https://nrrl.no/event/medlemsmote-ryfylkegruppen-49/
CATEGORIES:Ryfylkegruppen
END:VEVENT
BEGIN:VEVENT
DTSTART;TZID=Europe/Oslo:20251002T183000
DTEND;TZID=Europe/Oslo:20251002T213000
DTSTAMP:20260420T071531
CREATED:20250429T165458Z
LAST-MODIFIED:20250429T165458Z
UID:118635-1759429800-1759440600@nrrl.no
SUMMARY:Oslogruppen: Lisenskurs
DESCRIPTION:Kurset går over 14 kurskvelder med tentamen 27. november 2025. Du kan delta digitalt eller fysisk. \nEksamen blir i begynnelsen av desember. \nFlere opplysninger via skjema som du finner her: https://la4o.no/kurs
URL:https://nrrl.no/event/oslogruppen-lisenskurs-6/
LOCATION:Nedre Rommen 5 E\, 0915 Oslo
CATEGORIES:Kurs,Oslogruppen
END:VEVENT
BEGIN:VEVENT
DTSTART;TZID=Europe/Oslo:20251002T190000
DTEND;TZID=Europe/Oslo:20251002T210000
DTSTAMP:20260420T071531
CREATED:20250928T153903Z
LAST-MODIFIED:20250928T153903Z
UID:122750-1759431600-1759438800@nrrl.no
SUMMARY:Medlemsmøte Haldengruppen
DESCRIPTION:
URL:https://nrrl.no/event/medlemsmote-haldengruppen-49/
CATEGORIES:Haldengruppen
END:VEVENT
BEGIN:VEVENT
DTSTART;TZID=Europe/Oslo:20251002T190000
DTEND;TZID=Europe/Oslo:20251002T210000
DTSTAMP:20260420T071531
CREATED:20250928T153936Z
LAST-MODIFIED:20250928T153936Z
UID:122752-1759431600-1759438800@nrrl.no
SUMMARY:Medlemsmøte Hortengruppen
DESCRIPTION:
URL:https://nrrl.no/event/medlemsmote-hortengruppen-90/
CATEGORIES:Hortengruppen
END:VEVENT
BEGIN:VEVENT
DTSTART;TZID=Europe/Oslo:20251002T190000
DTEND;TZID=Europe/Oslo:20251002T210000
DTSTAMP:20260420T071531
CREATED:20250928T154604Z
LAST-MODIFIED:20250928T154604Z
UID:122772-1759431600-1759438800@nrrl.no
SUMMARY:Medlemsmøte Egersundgruppen
DESCRIPTION:
URL:https://nrrl.no/event/medlemsmote-egersundgruppen-23/
CATEGORIES:Egersundgruppen
END:VEVENT
BEGIN:VEVENT
DTSTART;TZID=Europe/Oslo:20251002T190000
DTEND;TZID=Europe/Oslo:20251002T210000
DTSTAMP:20260420T071531
CREATED:20250928T154918Z
LAST-MODIFIED:20250928T154918Z
UID:122782-1759431600-1759438800@nrrl.no
SUMMARY:Medlemsmøte Gusbrandsdalsgruppen
DESCRIPTION:
URL:https://nrrl.no/event/medlemsmote-gusbrandsdalsgruppen/
CATEGORIES:Gudbrandsdalsgruppen
END:VEVENT
BEGIN:VEVENT
DTSTART;TZID=Europe/Oslo:20251004T110000
DTEND;TZID=Europe/Oslo:20251004T130000
DTSTAMP:20260420T071531
CREATED:20250928T154520Z
LAST-MODIFIED:20250928T154520Z
UID:122770-1759575600-1759582800@nrrl.no
SUMMARY:Medlemsmøte Kristiansandgruppen
DESCRIPTION:
URL:https://nrrl.no/event/medlemsmote-kristiansandgruppen-22/
CATEGORIES:Kristiansandgruppen
END:VEVENT
BEGIN:VEVENT
DTSTART;TZID=Europe/Oslo:20251004T140000
DTEND;TZID=Europe/Oslo:20251004T160000
DTSTAMP:20260420T071531
CREATED:20250928T154245Z
LAST-MODIFIED:20250928T154245Z
UID:122762-1759586400-1759593600@nrrl.no
SUMMARY:Medlemsmøte Tromsøgruppen
DESCRIPTION:
URL:https://nrrl.no/event/medlemsmote-tromsogruppen-98/
CATEGORIES:Tromsøgruppen
END:VEVENT
BEGIN:VEVENT
DTSTART;TZID=Europe/Oslo:20251008T190000
DTEND;TZID=Europe/Oslo:20251008T210000
DTSTAMP:20260420T071531
CREATED:20250928T154714Z
LAST-MODIFIED:20250928T154714Z
UID:122776-1759950000-1759957200@nrrl.no
SUMMARY:Medlemsmøte Kongsberggruppen
DESCRIPTION:
URL:https://nrrl.no/event/medlemsmote-kongsberggruppen-12/
CATEGORIES:Kongsberggruppen
END:VEVENT
BEGIN:VEVENT
DTSTART;VALUE=DATE:20251009
DTEND;VALUE=DATE:20251010
DTSTAMP:20260420T071531
CREATED:20251009T164106Z
LAST-MODIFIED:20251009T164106Z
UID:122893-1759968000-1760054399@nrrl.no
SUMMARY:LM100IARU: KONTORET
DESCRIPTION:
URL:https://nrrl.no/event/lm100iaru-kontoret-6/
CATEGORIES:LM100IARU
END:VEVENT
BEGIN:VEVENT
DTSTART;TZID=Europe/Oslo:20251009T183000
DTEND;TZID=Europe/Oslo:20251009T213000
DTSTAMP:20260420T071531
CREATED:20250429T165512Z
LAST-MODIFIED:20250429T165512Z
UID:118637-1760034600-1760045400@nrrl.no
SUMMARY:Oslogruppen: Lisenskurs
DESCRIPTION:Kurset går over 14 kurskvelder med tentamen 27. november 2025. Du kan delta digitalt eller fysisk. \nEksamen blir i begynnelsen av desember. \nFlere opplysninger via skjema som du finner her: https://la4o.no/kurs
URL:https://nrrl.no/event/oslogruppen-lisenskurs-7/
LOCATION:Nedre Rommen 5 E\, 0915 Oslo
CATEGORIES:Kurs,Oslogruppen
END:VEVENT
BEGIN:VEVENT
DTSTART;VALUE=DATE:20251010
DTEND;VALUE=DATE:20251015
DTSTAMP:20260420T071531
CREATED:20251009T220252Z
LAST-MODIFIED:20251009T220252Z
UID:122898-1760054400-1760486399@nrrl.no
SUMMARY:LB100IARU: LA1B
DESCRIPTION:
URL:https://nrrl.no/event/lb100iaru-la1b/
CATEGORIES:LB100IARU
END:VEVENT
BEGIN:VEVENT
DTSTART;TZID=Europe/Oslo:20251012T103000
DTEND;TZID=Europe/Oslo:20251012T123000
DTSTAMP:20260420T071531
CREATED:20251012T161009Z
LAST-MODIFIED:20251012T161009Z
UID:122934-1760265000-1760272200@nrrl.no
SUMMARY:Medlemsmøte Grenlandsgruppen
DESCRIPTION:
URL:https://nrrl.no/event/medlemsmote-grenlandsgruppen-99/
CATEGORIES:Grenlandsgruppen
END:VEVENT
BEGIN:VEVENT
DTSTART;TZID=Europe/Oslo:20251013T190000
DTEND;TZID=Europe/Oslo:20251013T210000
DTSTAMP:20260420T071531
CREATED:20251012T161306Z
LAST-MODIFIED:20251012T161306Z
UID:122944-1760382000-1760389200@nrrl.no
SUMMARY:Medlemsmøte Sandefjordgruppen
DESCRIPTION:
URL:https://nrrl.no/event/medlemsmote-sandefjordgruppen-47/
CATEGORIES:Sandefjordgruppen
END:VEVENT
BEGIN:VEVENT
DTSTART;TZID=Europe/Oslo:20251014T110000
DTEND;TZID=Europe/Oslo:20251014T130000
DTSTAMP:20260420T071531
CREATED:20251012T161150Z
LAST-MODIFIED:20251012T161150Z
UID:122940-1760439600-1760446800@nrrl.no
SUMMARY:Medlemsmøte Hortengruppen
DESCRIPTION:
URL:https://nrrl.no/event/medlemsmote-hortengruppen-93/
CATEGORIES:Hortengruppen
END:VEVENT
BEGIN:VEVENT
DTSTART;TZID=Europe/Oslo:20251014T190000
DTEND;TZID=Europe/Oslo:20251014T210000
DTSTAMP:20260420T071531
CREATED:20251012T161337Z
LAST-MODIFIED:20251012T161337Z
UID:122946-1760468400-1760475600@nrrl.no
SUMMARY:Medlemsmøte Tromsøgruppen
DESCRIPTION:
URL:https://nrrl.no/event/medlemsmote-tromsogruppen-99/
CATEGORIES:Tromsøgruppen
END:VEVENT
BEGIN:VEVENT
DTSTART;TZID=Europe/Oslo:20251014T190000
DTEND;TZID=Europe/Oslo:20251014T210000
DTSTAMP:20260420T071531
CREATED:20251012T161432Z
LAST-MODIFIED:20251012T161432Z
UID:122950-1760468400-1760475600@nrrl.no
SUMMARY:Medlemsmøte Trondheimsgruppen
DESCRIPTION:
URL:https://nrrl.no/event/medlemsmote-trondheimsgruppen-45/
CATEGORIES:Trondheimsgruppen
END:VEVENT
BEGIN:VEVENT
DTSTART;TZID=Europe/Oslo:20251015T180000
DTEND;TZID=Europe/Oslo:20251015T200000
DTSTAMP:20260420T071531
CREATED:20251012T161503Z
LAST-MODIFIED:20251012T161503Z
UID:122952-1760551200-1760558400@nrrl.no
SUMMARY:Medlemsmøte Harstadgruppen
DESCRIPTION:
URL:https://nrrl.no/event/medlemsmote-harstadgruppen-23/
CATEGORIES:Harstadgruppen
END:VEVENT
BEGIN:VEVENT
DTSTART;TZID=Europe/Oslo:20251015T190000
DTEND;TZID=Europe/Oslo:20251015T210000
DTSTAMP:20260420T071531
CREATED:20251012T160841Z
LAST-MODIFIED:20251012T160841Z
UID:122928-1760554800-1760562000@nrrl.no
SUMMARY:Medlemsmøte Drammensgruppen
DESCRIPTION:
URL:https://nrrl.no/event/medlemsmote-drammensgruppen-45/
CATEGORIES:Drammengruppen
END:VEVENT
BEGIN:VEVENT
DTSTART;TZID=Europe/Oslo:20251015T190000
DTEND;TZID=Europe/Oslo:20251015T210000
DTSTAMP:20260420T071531
CREATED:20251012T160911Z
LAST-MODIFIED:20251012T160911Z
UID:122930-1760554800-1760562000@nrrl.no
SUMMARY:Medlemsmøte Follogruppen
DESCRIPTION:
URL:https://nrrl.no/event/medlemsmote-follogruppen-50/
CATEGORIES:Follogruppen
END:VEVENT
BEGIN:VEVENT
DTSTART;TZID=Europe/Oslo:20251015T190000
DTEND;TZID=Europe/Oslo:20251015T210000
DTSTAMP:20260420T071531
CREATED:20251012T160942Z
LAST-MODIFIED:20251012T160942Z
UID:122932-1760554800-1760562000@nrrl.no
SUMMARY:Medlemsmøte Grenlandsgruppen
DESCRIPTION:
URL:https://nrrl.no/event/medlemsmote-grenlandsgruppen-98/
CATEGORIES:Grenlandsgruppen
END:VEVENT
BEGIN:VEVENT
DTSTART;TZID=Europe/Oslo:20251016T180000
DTEND;TZID=Europe/Oslo:20251016T200000
DTSTAMP:20260420T071531
CREATED:20251012T161228Z
LAST-MODIFIED:20251012T161228Z
UID:122942-1760637600-1760644800@nrrl.no
SUMMARY:Medlemsmøte Ryfylkegruppen
DESCRIPTION:
URL:https://nrrl.no/event/medlemsmote-ryfylkegruppen-50/
CATEGORIES:Ryfylkegruppen
END:VEVENT
BEGIN:VEVENT
DTSTART;TZID=Europe/Oslo:20251016T183000
DTEND;TZID=Europe/Oslo:20251016T213000
DTSTAMP:20260420T071531
CREATED:20250429T165528Z
LAST-MODIFIED:20250429T165528Z
UID:118639-1760639400-1760650200@nrrl.no
SUMMARY:Oslogruppen: Lisenskurs
DESCRIPTION:Kurset går over 14 kurskvelder med tentamen 27. november 2025. Du kan delta digitalt eller fysisk. \nEksamen blir i begynnelsen av desember. \nFlere opplysninger via skjema som du finner her: https://la4o.no/kurs
URL:https://nrrl.no/event/oslogruppen-lisenskurs-8/
LOCATION:Nedre Rommen 5 E\, 0915 Oslo
CATEGORIES:Kurs,Oslogruppen
END:VEVENT
END:VCALENDAR