BEGIN:VCALENDAR
VERSION:2.0
PRODID:-//Norsk Radio Relæ Liga - ECPv6.15.20//NONSGML v1.0//EN
CALSCALE:GREGORIAN
METHOD:PUBLISH
X-ORIGINAL-URL:https://nrrl.no
X-WR-CALDESC:Arrangement for Norsk Radio Relæ Liga
REFRESH-INTERVAL;VALUE=DURATION:PT1H
X-Robots-Tag:noindex
X-PUBLISHED-TTL:PT1H
BEGIN:VTIMEZONE
TZID:Europe/Oslo
BEGIN:DAYLIGHT
TZOFFSETFROM:+0100
TZOFFSETTO:+0200
TZNAME:CEST
DTSTART:20250330T010000
END:DAYLIGHT
BEGIN:STANDARD
TZOFFSETFROM:+0200
TZOFFSETTO:+0100
TZNAME:CET
DTSTART:20251026T010000
END:STANDARD
BEGIN:DAYLIGHT
TZOFFSETFROM:+0100
TZOFFSETTO:+0200
TZNAME:CEST
DTSTART:20260329T010000
END:DAYLIGHT
BEGIN:STANDARD
TZOFFSETFROM:+0200
TZOFFSETTO:+0100
TZNAME:CET
DTSTART:20261025T010000
END:STANDARD
BEGIN:DAYLIGHT
TZOFFSETFROM:+0100
TZOFFSETTO:+0200
TZNAME:CEST
DTSTART:20270328T010000
END:DAYLIGHT
BEGIN:STANDARD
TZOFFSETFROM:+0200
TZOFFSETTO:+0100
TZNAME:CET
DTSTART:20271031T010000
END:STANDARD
END:VTIMEZONE
BEGIN:VEVENT
DTSTART;TZID=Europe/Oslo:20260504T180000
DTEND;TZID=Europe/Oslo:20260504T210000
DTSTAMP:20260419T194559
CREATED:20260224T080115Z
LAST-MODIFIED:20260305T120005Z
UID:124462-1777917600-1777928400@nrrl.no
SUMMARY:Rogalandkurset 2026 - 1. kveld
DESCRIPTION:Haugalandgruppen av NRRL og Jærgruppen av NRRL inviterer til felles lisenskurs. Kurset er et nettkurs med lærer og fører fram til lisensprøve som radioamatør. Det er åpent for deltakere fra hele landet. \nKurset går over om lag 15 kvelder med planlagt kursstart 4. mai og avslutning med tentamen 26. oktober. Åtte ukers sommerferie er inkludert. \nFor mer informasjon\, se her.
URL:https://nrrl.no/event/rogalandskurset-2026-kveld-1/
CATEGORIES:Haugalandsgruppen,Jærgruppen,Kurs
END:VEVENT
BEGIN:VEVENT
DTSTART;TZID=Europe/Oslo:20260507T190000
DTEND;TZID=Europe/Oslo:20260507T210000
DTSTAMP:20260419T194559
CREATED:20260223T211229Z
LAST-MODIFIED:20260223T211744Z
UID:124453-1778180400-1778187600@nrrl.no
SUMMARY:Medlemsmøte i Egersundsgruppen
DESCRIPTION:Egersundsgruppen har møte hver første torsdag i måneden og drop-in hver tredje torsdag i måneden i gruppelokalet/hytta på Hellvik. Oppstart klokka 19.
URL:https://nrrl.no/event/medlemsmote-i-egersundsgruppen-2026-05-07/
LOCATION:Egersundgruppen\, Hellviksveien 40\, Hellvik\, 4375\, Norway
CATEGORIES:Egersundgruppen
END:VEVENT
BEGIN:VEVENT
DTSTART;VALUE=DATE:20260509
DTEND;VALUE=DATE:20260510
DTSTAMP:20260419T194559
CREATED:20260127T152346Z
LAST-MODIFIED:20260127T152422Z
UID:124081-1778284800-1778371199@nrrl.no
SUMMARY:Maidag på Holmen 2026
DESCRIPTION:Arrangeres av Haugalandgruppen av NRRL. Mer informasjon kommer.
URL:https://nrrl.no/event/maidag-pa-holmen-2026/
LOCATION:Holmavegen 1\, 4269 Åkrehamn\, Holmavegen 1\, Åkrehamn\, 4296\, Norway
CATEGORIES:Haugalandsgruppen
END:VEVENT
BEGIN:VEVENT
DTSTART;TZID=Europe/Oslo:20260511T180000
DTEND;TZID=Europe/Oslo:20260511T210000
DTSTAMP:20260419T194559
CREATED:20260305T120110Z
LAST-MODIFIED:20260305T120443Z
UID:124649-1778522400-1778533200@nrrl.no
SUMMARY:Rogalandkurset 2026 - 2. kveld
DESCRIPTION:Haugalandgruppen av NRRL og Jærgruppen av NRRL inviterer til felles lisenskurs. Kurset er et nettkurs med lærer og fører fram til lisensprøve som radioamatør. Det er åpent for deltakere fra hele landet. \nKurset går over om lag 15 kvelder med planlagt kursstart 4. mai og avslutning med tentamen 26. oktober. Åtte ukers sommerferie er inkludert. \nFor mer informasjon\, se her.
URL:https://nrrl.no/event/rogalandkurset-2026-2-kveld/
CATEGORIES:Haugalandsgruppen,Jærgruppen,Kurs
END:VEVENT
BEGIN:VEVENT
DTSTART;TZID=Europe/Oslo:20260513T190000
DTEND;TZID=Europe/Oslo:20260513T210000
DTSTAMP:20260419T194559
CREATED:20260223T204943Z
LAST-MODIFIED:20260223T211602Z
UID:124439-1778698800-1778706000@nrrl.no
SUMMARY:Drop-in i Asker og Bærumgruppen
DESCRIPTION:
URL:https://nrrl.no/event/drop-in-i-asker-og-baerumgruppen-2026-05-13/
LOCATION:Asker og Bærumgruppens klubbhytte\, Tråkka\, Lommedalen\, 1350\, Norway
CATEGORIES:Asker og Bærumsgruppen
END:VEVENT
BEGIN:VEVENT
DTSTART;TZID=Europe/Oslo:20260517T090000
DTEND;TZID=Europe/Oslo:20260517T110000
DTSTAMP:20260419T194559
CREATED:20260129T091837Z
LAST-MODIFIED:20260129T091930Z
UID:124105-1779008400-1779015600@nrrl.no
SUMMARY:SSA Portabeltest 2026 - Våromgangen
DESCRIPTION:SSA Portabeltest arrangeres to ganger i året. Her inviteres radioamatører i JW\, JX\, LA\, OH\, OHØ\, OJØ\, OX\, OY\, OZ\, SM og TF til å delta. \nKonkurransen foregår på CW og SSB\, på 80m- og 40m-båndet. \nFor mer informasjon\, klikk her.
URL:https://nrrl.no/event/ssa-portabeltest-2026-varomgangen/
CATEGORIES:Konkurranser
END:VEVENT
BEGIN:VEVENT
DTSTART;TZID=Europe/Oslo:20260518T180000
DTEND;TZID=Europe/Oslo:20260518T210000
DTSTAMP:20260419T194559
CREATED:20260305T120138Z
LAST-MODIFIED:20260305T120452Z
UID:124651-1779127200-1779138000@nrrl.no
SUMMARY:Rogalandkurset 2026 - 3. kveld
DESCRIPTION:Haugalandgruppen av NRRL og Jærgruppen av NRRL inviterer til felles lisenskurs. Kurset er et nettkurs med lærer og fører fram til lisensprøve som radioamatør. Det er åpent for deltakere fra hele landet. \nKurset går over om lag 15 kvelder med planlagt kursstart 4. mai og avslutning med tentamen 26. oktober. Åtte ukers sommerferie er inkludert. \nFor mer informasjon\, se her.
URL:https://nrrl.no/event/rogalandkurset-2026-3-kveld/
CATEGORIES:Haugalandsgruppen,Jærgruppen,Kurs
END:VEVENT
BEGIN:VEVENT
DTSTART;TZID=Europe/Oslo:20260521T190000
DTEND;TZID=Europe/Oslo:20260521T210000
DTSTAMP:20260419T194559
CREATED:20260223T211838Z
LAST-MODIFIED:20260223T211838Z
UID:124460-1779390000-1779397200@nrrl.no
SUMMARY:Dropin i Egersundsgruppen
DESCRIPTION:Egersundsgruppen har møte hver første torsdag i måneden og drop-in hver tredje torsdag i måneden i gruppelokalet/hytta på Hellvik. Oppstart klokka 19.
URL:https://nrrl.no/event/dropin-i-egersundsgruppen-2026-05-21/
LOCATION:Egersundgruppen\, Hellviksveien 40\, Hellvik\, 4375\, Norway
CATEGORIES:Egersundgruppen
END:VEVENT
BEGIN:VEVENT
DTSTART;TZID=Europe/Oslo:20260522T120000
DTEND;TZID=Europe/Oslo:20260524T120000
DTSTAMP:20260419T194559
CREATED:20260225T163741Z
LAST-MODIFIED:20260225T163741Z
UID:124568-1779451200-1779624000@nrrl.no
SUMMARY:Nordnorsk Hammeeting 2026
DESCRIPTION:Narvikgruppen av NRRL inviterer til Nord-Norsk Ham-Meeting 2026. Denne gangen arrangeres NNHM på Fjellkysten Gjestehus i Lavangen\, midt mellom flyplassene i Bardufoss og Evenes. Programmet er ennå ikke klart\, men det legges opp til et trivelig program med foredrag\, utstillere og leverandører.
URL:https://nrrl.no/event/nordnorsk-hammeeting-2026/
LOCATION:Fjellkysten gjestehus\, Soløyveien 190\, Tennevoll\, 9357\, Norway
CATEGORIES:Messe/samling,Narvikgruppen
END:VEVENT
BEGIN:VEVENT
DTSTART;TZID=Europe/Oslo:20260527T190000
DTEND;TZID=Europe/Oslo:20260527T210000
DTSTAMP:20260419T194559
CREATED:20260223T205015Z
LAST-MODIFIED:20260223T211605Z
UID:124441-1779908400-1779915600@nrrl.no
SUMMARY:Drop-in i Asker og Bærumgruppen
DESCRIPTION:
URL:https://nrrl.no/event/drop-in-i-asker-og-baerumgruppen-2026-05-27/
LOCATION:Asker og Bærumgruppens klubbhytte\, Tråkka\, Lommedalen\, 1350\, Norway
CATEGORIES:Asker og Bærumsgruppen
END:VEVENT
END:VCALENDAR